BEGIN:VCALENDAR
VERSION:2.0
PRODID:-//Congregation Or VeShalom - ECPv6.15.17.1//NONSGML v1.0//EN
CALSCALE:GREGORIAN
METHOD:PUBLISH
X-WR-CALNAME:Congregation Or VeShalom
X-ORIGINAL-URL:https://www.orveshalom.org
X-WR-CALDESC:Events for Congregation Or VeShalom
REFRESH-INTERVAL;VALUE=DURATION:PT1H
X-Robots-Tag:noindex
X-PUBLISHED-TTL:PT1H
BEGIN:VTIMEZONE
TZID:America/New_York
BEGIN:DAYLIGHT
TZOFFSETFROM:-0500
TZOFFSETTO:-0400
TZNAME:EDT
DTSTART:20240310T070000
END:DAYLIGHT
BEGIN:STANDARD
TZOFFSETFROM:-0400
TZOFFSETTO:-0500
TZNAME:EST
DTSTART:20241103T060000
END:STANDARD
BEGIN:DAYLIGHT
TZOFFSETFROM:-0500
TZOFFSETTO:-0400
TZNAME:EDT
DTSTART:20250309T070000
END:DAYLIGHT
BEGIN:STANDARD
TZOFFSETFROM:-0400
TZOFFSETTO:-0500
TZNAME:EST
DTSTART:20251102T060000
END:STANDARD
BEGIN:DAYLIGHT
TZOFFSETFROM:-0500
TZOFFSETTO:-0400
TZNAME:EDT
DTSTART:20260308T070000
END:DAYLIGHT
BEGIN:STANDARD
TZOFFSETFROM:-0400
TZOFFSETTO:-0500
TZNAME:EST
DTSTART:20261101T060000
END:STANDARD
BEGIN:DAYLIGHT
TZOFFSETFROM:-0500
TZOFFSETTO:-0400
TZNAME:EDT
DTSTART:20270314T070000
END:DAYLIGHT
BEGIN:STANDARD
TZOFFSETFROM:-0400
TZOFFSETTO:-0500
TZNAME:EST
DTSTART:20271107T060000
END:STANDARD
END:VTIMEZONE
BEGIN:VEVENT
DTSTART;TZID=America/New_York:20260412T120000
DTEND;TZID=America/New_York:20260412T130000
DTSTAMP:20260424T035927
CREATED:20250619T193207Z
LAST-MODIFIED:20250619T193207Z
UID:10002290-1775995200-1775998800@www.orveshalom.org
SUMMARY:Hebrew Club
DESCRIPTION:Hebrew Club is a Hebrew-only immersive experience designed especially for children. The program is suitable both for Hebrew speakers and for beginners who want to strengthen their Hebrew skills. Through games\, crafts\, songs\, and interactive activities\, students will expand their vocabulary\, improve their speaking skills\, and build confidence—all in a fun and supportive environment. Topics include greetings\, colors\, food\, emotions\, Israeli culture\, and more. Open to the community. \nClick here to sign up if your child(ren) are already registered for Building Blocks Sunday School. \nClick here to sign up if your child(ren) are not in Building Blocks. \n 
URL:https://www.orveshalom.org/event/hebrew-club/2026-04-12
LOCATION:Congregation Or VeShalom
ORGANIZER;CN="Chana Mayer":MAILTO:buildingblocks@orveshalom.org
END:VEVENT
BEGIN:VEVENT
DTSTART;TZID=America/New_York:20260404T103000
DTEND;TZID=America/New_York:20260404T113000
DTSTAMP:20260424T035927
CREATED:20250813T143832Z
LAST-MODIFIED:20260210T204539Z
UID:10002312-1775298600-1775302200@www.orveshalom.org
SUMMARY:Shabbat Together
DESCRIPTION:Shabbat Together is held on the first Saturday each month\, featuring our Kavanah Minyan and Tot Shabbat & Jr. Congregation. \nThe Kavanah Minyan is an abbreviated\, informal service\, led by Rabbi Hearshen with easy to learn prayers and inspirational teachings in the Maslia Chapel.\nTot Shabbat & Jr. Congregation are informal\, interactive services for children of all ages held in the Preschool Wing.
URL:https://www.orveshalom.org/event/shabbat-together-2-2/2026-04-04
LOCATION:Congregation Or VeShalom
ATTACH;FMTTYPE=image/png:https://www.orveshalom.org/wp-content/uploads/2025/09/Shabbat-Together-Social-Media-NEW-9.29.25-small.png
END:VEVENT
BEGIN:VEVENT
DTSTART;TZID=America/New_York:20260322T103000
DTEND;TZID=America/New_York:20260322T113000
DTSTAMP:20260424T035927
CREATED:20250619T195112Z
LAST-MODIFIED:20250619T195112Z
UID:10002296-1774175400-1774179000@www.orveshalom.org
SUMMARY:B'nai Mitzvah Club
DESCRIPTION:The B’nai Mitzvah Club supports pre-teens on their journey toward becoming B’nai Mitzvah at OVS. This program combines meaningful Jewish learning with social connection and hands-on projects. Students explore Jewish identity\, values\, and traditions while engaging in activities that prepare them for this important milestone—through discussions\, creative projects\, and community-building experiences.
URL:https://www.orveshalom.org/event/bnai-mitzvah-club/2026-03-22
LOCATION:Congregation Or VeShalom
ORGANIZER;CN="Chana Mayer":MAILTO:buildingblocks@orveshalom.org
END:VEVENT
BEGIN:VEVENT
DTSTART;TZID=America/New_York:20260314T084500
DTEND;TZID=America/New_York:20260314T130000
DTSTAMP:20260424T035927
CREATED:20260126T172640Z
LAST-MODIFIED:20260126T175102Z
UID:10002399-1773477900-1773493200@www.orveshalom.org
SUMMARY:Sisterhood Shabbat
DESCRIPTION:Join us for Sisterhood Shabbat. Participants are needed for English and Hebrew readings. We’re also calling on all singers to help make this service extra special. \nContact Sharon Sonenshine at sharon.sonenshine@gmail.com for details. \nRSVP Requested for Kiddush. \nCLICK HERE TO RSVP.
URL:https://www.orveshalom.org/event/sisterhood-shabbat
LOCATION:Congregation Or VeShalom
ATTACH;FMTTYPE=image/png:https://www.orveshalom.org/wp-content/uploads/2026/01/Sisterhood-Shabbat-2026-Postcard-1.26.26-small.png
END:VEVENT
BEGIN:VEVENT
DTSTART;TZID=America/New_York:20260308T120000
DTEND;TZID=America/New_York:20260308T130000
DTSTAMP:20260424T035927
CREATED:20250619T193207Z
LAST-MODIFIED:20250619T193207Z
UID:10002289-1772971200-1772974800@www.orveshalom.org
SUMMARY:Hebrew Club
DESCRIPTION:Hebrew Club is a Hebrew-only immersive experience designed especially for children. The program is suitable both for Hebrew speakers and for beginners who want to strengthen their Hebrew skills. Through games\, crafts\, songs\, and interactive activities\, students will expand their vocabulary\, improve their speaking skills\, and build confidence—all in a fun and supportive environment. Topics include greetings\, colors\, food\, emotions\, Israeli culture\, and more. Open to the community. \nClick here to sign up if your child(ren) are already registered for Building Blocks Sunday School. \nClick here to sign up if your child(ren) are not in Building Blocks. \n 
URL:https://www.orveshalom.org/event/hebrew-club/2026-03-08
LOCATION:Congregation Or VeShalom
ORGANIZER;CN="Chana Mayer":MAILTO:buildingblocks@orveshalom.org
END:VEVENT
BEGIN:VEVENT
DTSTART;TZID=America/New_York:20260307T103000
DTEND;TZID=America/New_York:20260307T113000
DTSTAMP:20260424T035927
CREATED:20250813T143832Z
LAST-MODIFIED:20260210T204539Z
UID:10002311-1772879400-1772883000@www.orveshalom.org
SUMMARY:Shabbat Together
DESCRIPTION:Shabbat Together is held on the first Saturday each month\, featuring our Kavanah Minyan and Tot Shabbat & Jr. Congregation. \nThe Kavanah Minyan is an abbreviated\, informal service\, led by Rabbi Hearshen with easy to learn prayers and inspirational teachings in the Maslia Chapel.\nTot Shabbat & Jr. Congregation are informal\, interactive services for children of all ages held in the Preschool Wing.
URL:https://www.orveshalom.org/event/shabbat-together-2-2/2026-03-07
LOCATION:Congregation Or VeShalom
ATTACH;FMTTYPE=image/png:https://www.orveshalom.org/wp-content/uploads/2025/09/Shabbat-Together-Social-Media-NEW-9.29.25-small.png
END:VEVENT
BEGIN:VEVENT
DTSTART;TZID=America/New_York:20260303T160000
DTEND;TZID=America/New_York:20260303T183000
DTSTAMP:20260424T035927
CREATED:20260203T200107Z
LAST-MODIFIED:20260203T214421Z
UID:10002400-1772553600-1772562600@www.orveshalom.org
SUMMARY:Purim Carnival
DESCRIPTION:Get ready to go wild!\nCongregation Or VeShalom’s annual Purim Carnival is swinging into action with a jungle-themed celebration the whole family will love. Jump into bounce houses\, play carnival games\, meet adorable animals at the petting zoo\, and refuel with dinner—all while celebrating Purim in the wildest way possible. \nCostumes encouraged\, smiles guaranteed! \n$25 per family in advance\, $30 per family at the door. Includes all activities and dinner. \nRSVP requested. CLICK HERE TO SIGN UP.
URL:https://www.orveshalom.org/event/purim-carnival
LOCATION:Congregation Or VeShalom
END:VEVENT
BEGIN:VEVENT
DTSTART;TZID=America/New_York:20260303T080000
DTEND;TZID=America/New_York:20260303T093000
DTSTAMP:20260424T035927
CREATED:20260206T192435Z
LAST-MODIFIED:20260206T192455Z
UID:10002401-1772524800-1772530200@www.orveshalom.org
SUMMARY:Morning Services & Megillah Reading
DESCRIPTION:Join us for morning services with Megillah Reading.
URL:https://www.orveshalom.org/event/morning-services-megillah-reading
LOCATION:Congregation Or VeShalom
END:VEVENT
BEGIN:VEVENT
DTSTART;TZID=America/New_York:20260302T190000
DTEND;TZID=America/New_York:20260302T210000
DTSTAMP:20260424T035927
CREATED:20260121T184428Z
LAST-MODIFIED:20260203T215439Z
UID:10002398-1772478000-1772485200@www.orveshalom.org
SUMMARY:A Purim Prelude
DESCRIPTION:Kick off Purim with good food\, great company\, and the story that starts it all. The evening opens with a relaxed\, social atmosphere and curated charcuterie table\, followed by a lively Megillah reading. \nCome mingle\, eat good food\, and ease into the holiday together. \nCostumes encouraged\, good vibes guaranteed. \nDoors open at 7:00 pm\nMegillah Reading at 8:00 pm \nOpen to the community\, ages 18 and older. \nCLICK HERE TO RSVP.
URL:https://www.orveshalom.org/event/purimprelude2026
LOCATION:Congregation Or VeShalom
ATTACH;FMTTYPE=image/png:https://www.orveshalom.org/wp-content/uploads/2026/02/Purim-Prelude-Postcard-small-2.2.26-NEW.png
END:VEVENT
BEGIN:VEVENT
DTSTART;TZID=America/New_York:20260301T103000
DTEND;TZID=America/New_York:20260301T123000
DTSTAMP:20260424T035927
CREATED:20260112T192707Z
LAST-MODIFIED:20260209T174344Z
UID:10002397-1772361000-1772368200@www.orveshalom.org
SUMMARY:Sisterhood Donor Event
DESCRIPTION:Join us for OVS Sisterhood’s 58 Annual Donor event honoring OVS Sisterhood\, Past\, Present & Future. \nFeaturing Dad’s Garage – Improv Group. Click here to learn about Dad’s Garage. \nClick here to view the invitation. \nClick here to view the reply card. \nCLICK HERE TO REGISTER.\n*We will do our best to honor seating requests\, but they cannot be guaranteed.
URL:https://www.orveshalom.org/event/donor2026
LOCATION:Congregation Or VeShalom
ATTACH;FMTTYPE=image/png:https://www.orveshalom.org/wp-content/uploads/2026/02/Donor-Invitation-2026-with-Border.png
END:VEVENT
BEGIN:VEVENT
DTSTART;TZID=America/New_York:20260222T103000
DTEND;TZID=America/New_York:20260222T113000
DTSTAMP:20260424T035927
CREATED:20250619T195112Z
LAST-MODIFIED:20250619T195112Z
UID:10002295-1771756200-1771759800@www.orveshalom.org
SUMMARY:B'nai Mitzvah Club
DESCRIPTION:The B’nai Mitzvah Club supports pre-teens on their journey toward becoming B’nai Mitzvah at OVS. This program combines meaningful Jewish learning with social connection and hands-on projects. Students explore Jewish identity\, values\, and traditions while engaging in activities that prepare them for this important milestone—through discussions\, creative projects\, and community-building experiences.
URL:https://www.orveshalom.org/event/bnai-mitzvah-club/2026-02-22
LOCATION:Congregation Or VeShalom
ORGANIZER;CN="Chana Mayer":MAILTO:buildingblocks@orveshalom.org
END:VEVENT
BEGIN:VEVENT
DTSTART;TZID=America/New_York:20260208T120000
DTEND;TZID=America/New_York:20260208T130000
DTSTAMP:20260424T035927
CREATED:20250619T193207Z
LAST-MODIFIED:20250619T193207Z
UID:10002288-1770552000-1770555600@www.orveshalom.org
SUMMARY:Hebrew Club
DESCRIPTION:Hebrew Club is a Hebrew-only immersive experience designed especially for children. The program is suitable both for Hebrew speakers and for beginners who want to strengthen their Hebrew skills. Through games\, crafts\, songs\, and interactive activities\, students will expand their vocabulary\, improve their speaking skills\, and build confidence—all in a fun and supportive environment. Topics include greetings\, colors\, food\, emotions\, Israeli culture\, and more. Open to the community. \nClick here to sign up if your child(ren) are already registered for Building Blocks Sunday School. \nClick here to sign up if your child(ren) are not in Building Blocks. \n 
URL:https://www.orveshalom.org/event/hebrew-club/2026-02-08
LOCATION:Congregation Or VeShalom
ORGANIZER;CN="Chana Mayer":MAILTO:buildingblocks@orveshalom.org
END:VEVENT
BEGIN:VEVENT
DTSTART;TZID=America/New_York:20260207T103000
DTEND;TZID=America/New_York:20260207T113000
DTSTAMP:20260424T035927
CREATED:20250813T143832Z
LAST-MODIFIED:20260210T204539Z
UID:10002310-1770460200-1770463800@www.orveshalom.org
SUMMARY:Shabbat Together
DESCRIPTION:Shabbat Together is held on the first Saturday each month\, featuring our Kavanah Minyan and Tot Shabbat & Jr. Congregation. \nThe Kavanah Minyan is an abbreviated\, informal service\, led by Rabbi Hearshen with easy to learn prayers and inspirational teachings in the Maslia Chapel.\nTot Shabbat & Jr. Congregation are informal\, interactive services for children of all ages held in the Preschool Wing.
URL:https://www.orveshalom.org/event/shabbat-together-2-2/2026-02-07
LOCATION:Congregation Or VeShalom
ATTACH;FMTTYPE=image/png:https://www.orveshalom.org/wp-content/uploads/2025/09/Shabbat-Together-Social-Media-NEW-9.29.25-small.png
END:VEVENT
BEGIN:VEVENT
DTSTART;TZID=America/New_York:20260201T113000
DTEND;TZID=America/New_York:20260201T130000
DTSTAMP:20260424T035927
CREATED:20250507T191403Z
LAST-MODIFIED:20260107T162159Z
UID:10002258-1769945400-1769950800@www.orveshalom.org
SUMMARY:Tu B'Shvat Celebration
DESCRIPTION:Join us for Blooming Futures: Tu B’Shvat Daffodil Project. \nTu B’Shvat is the birthday of the trees\, and we’re excited to once again celebrate with our friends at Congregation Or VeShalom. \nFamilies will enjoy a hands-on morning filled with planting\, creating\, and connecting. Children will plant a small plant to take home\, make a delicious fruit salad\, enjoy fun crafts\, and help plant daffodil bulbs for The Daffodil Project – a worldwide initiative honoring the children who perished in the Holocaust through acts of remembrance and hope. \nCLICK HERE TO RSVP.
URL:https://www.orveshalom.org/event/tu-bshvat-planting-project
LOCATION:Congregation Or VeShalom
ATTACH;FMTTYPE=image/jpeg:https://www.orveshalom.org/wp-content/uploads/2026/01/Tu-BShvat-2026-Graphic-.jpg
END:VEVENT
BEGIN:VEVENT
DTSTART;TZID=America/New_York:20260125T103000
DTEND;TZID=America/New_York:20260125T113000
DTSTAMP:20260424T035927
CREATED:20250619T195112Z
LAST-MODIFIED:20250619T195112Z
UID:10002294-1769337000-1769340600@www.orveshalom.org
SUMMARY:B'nai Mitzvah Club
DESCRIPTION:The B’nai Mitzvah Club supports pre-teens on their journey toward becoming B’nai Mitzvah at OVS. This program combines meaningful Jewish learning with social connection and hands-on projects. Students explore Jewish identity\, values\, and traditions while engaging in activities that prepare them for this important milestone—through discussions\, creative projects\, and community-building experiences.
URL:https://www.orveshalom.org/event/bnai-mitzvah-club/2026-01-25
LOCATION:Congregation Or VeShalom
ORGANIZER;CN="Chana Mayer":MAILTO:buildingblocks@orveshalom.org
END:VEVENT
BEGIN:VEVENT
DTSTART;TZID=America/New_York:20260116T180000
DTEND;TZID=America/New_York:20260116T200000
DTSTAMP:20260424T035927
CREATED:20251219T134737Z
LAST-MODIFIED:20251219T134737Z
UID:10002395-1768586400-1768593600@www.orveshalom.org
SUMMARY:Building a Better World - Shabbat
DESCRIPTION:Join us for Shabbat Services\, Dinner & Discussion with our friends from St. James United Methodist Church. Enjoy a delicious meal and round-table discussion with members of both communities. \nErev Shabbat Services will begin at 6:00 pm\, followed by Shabbat Dinner at 7:00 pm. Open to the Community. RSVP needed by Monday\, January 12. \n$35 per person ages 11 and up. $10 for children 10 and under. \nCLICK HERE TO SIGN UP.
URL:https://www.orveshalom.org/event/buildingbetter2026
LOCATION:Congregation Or VeShalom
ATTACH;FMTTYPE=image/png:https://www.orveshalom.org/wp-content/uploads/2025/12/Building-a-Better-World-Social-Media-12.18.25-SMALL.png
END:VEVENT
BEGIN:VEVENT
DTSTART;TZID=America/New_York:20260111T120000
DTEND;TZID=America/New_York:20260111T130000
DTSTAMP:20260424T035927
CREATED:20250619T193207Z
LAST-MODIFIED:20250619T193207Z
UID:10002287-1768132800-1768136400@www.orveshalom.org
SUMMARY:Hebrew Club
DESCRIPTION:Hebrew Club is a Hebrew-only immersive experience designed especially for children. The program is suitable both for Hebrew speakers and for beginners who want to strengthen their Hebrew skills. Through games\, crafts\, songs\, and interactive activities\, students will expand their vocabulary\, improve their speaking skills\, and build confidence—all in a fun and supportive environment. Topics include greetings\, colors\, food\, emotions\, Israeli culture\, and more. Open to the community. \nClick here to sign up if your child(ren) are already registered for Building Blocks Sunday School. \nClick here to sign up if your child(ren) are not in Building Blocks. \n 
URL:https://www.orveshalom.org/event/hebrew-club/2026-01-11
LOCATION:Congregation Or VeShalom
ORGANIZER;CN="Chana Mayer":MAILTO:buildingblocks@orveshalom.org
END:VEVENT
BEGIN:VEVENT
DTSTART;TZID=America/New_York:20260103T103000
DTEND;TZID=America/New_York:20260103T113000
DTSTAMP:20260424T035927
CREATED:20250813T143832Z
LAST-MODIFIED:20260210T204539Z
UID:10002309-1767436200-1767439800@www.orveshalom.org
SUMMARY:Shabbat Together
DESCRIPTION:Shabbat Together is held on the first Saturday each month\, featuring our Kavanah Minyan and Tot Shabbat & Jr. Congregation. \nThe Kavanah Minyan is an abbreviated\, informal service\, led by Rabbi Hearshen with easy to learn prayers and inspirational teachings in the Maslia Chapel.\nTot Shabbat & Jr. Congregation are informal\, interactive services for children of all ages held in the Preschool Wing.
URL:https://www.orveshalom.org/event/shabbat-together-2-2/2026-01-03
LOCATION:Congregation Or VeShalom
ATTACH;FMTTYPE=image/png:https://www.orveshalom.org/wp-content/uploads/2025/09/Shabbat-Together-Social-Media-NEW-9.29.25-small.png
END:VEVENT
BEGIN:VEVENT
DTSTART;TZID=America/New_York:20251214T120000
DTEND;TZID=America/New_York:20251214T130000
DTSTAMP:20260424T035927
CREATED:20250619T193207Z
LAST-MODIFIED:20250619T193207Z
UID:10002286-1765713600-1765717200@www.orveshalom.org
SUMMARY:Hebrew Club
DESCRIPTION:Hebrew Club is a Hebrew-only immersive experience designed especially for children. The program is suitable both for Hebrew speakers and for beginners who want to strengthen their Hebrew skills. Through games\, crafts\, songs\, and interactive activities\, students will expand their vocabulary\, improve their speaking skills\, and build confidence—all in a fun and supportive environment. Topics include greetings\, colors\, food\, emotions\, Israeli culture\, and more. Open to the community. \nClick here to sign up if your child(ren) are already registered for Building Blocks Sunday School. \nClick here to sign up if your child(ren) are not in Building Blocks. \n 
URL:https://www.orveshalom.org/event/hebrew-club/2025-12-14
LOCATION:Congregation Or VeShalom
ORGANIZER;CN="Chana Mayer":MAILTO:buildingblocks@orveshalom.org
END:VEVENT
BEGIN:VEVENT
DTSTART;TZID=America/New_York:20251206T103000
DTEND;TZID=America/New_York:20251206T113000
DTSTAMP:20260424T035927
CREATED:20250813T143832Z
LAST-MODIFIED:20260210T204539Z
UID:10002308-1765017000-1765020600@www.orveshalom.org
SUMMARY:Shabbat Together
DESCRIPTION:Shabbat Together is held on the first Saturday each month\, featuring our Kavanah Minyan and Tot Shabbat & Jr. Congregation. \nThe Kavanah Minyan is an abbreviated\, informal service\, led by Rabbi Hearshen with easy to learn prayers and inspirational teachings in the Maslia Chapel.\nTot Shabbat & Jr. Congregation are informal\, interactive services for children of all ages held in the Preschool Wing.
URL:https://www.orveshalom.org/event/shabbat-together-2-2/2025-12-06
LOCATION:Congregation Or VeShalom
ATTACH;FMTTYPE=image/png:https://www.orveshalom.org/wp-content/uploads/2025/09/Shabbat-Together-Social-Media-NEW-9.29.25-small.png
END:VEVENT
BEGIN:VEVENT
DTSTART;TZID=America/New_York:20251123T103000
DTEND;TZID=America/New_York:20251123T113000
DTSTAMP:20260424T035927
CREATED:20250619T195112Z
LAST-MODIFIED:20250619T195112Z
UID:10002293-1763893800-1763897400@www.orveshalom.org
SUMMARY:B'nai Mitzvah Club
DESCRIPTION:The B’nai Mitzvah Club supports pre-teens on their journey toward becoming B’nai Mitzvah at OVS. This program combines meaningful Jewish learning with social connection and hands-on projects. Students explore Jewish identity\, values\, and traditions while engaging in activities that prepare them for this important milestone—through discussions\, creative projects\, and community-building experiences.
URL:https://www.orveshalom.org/event/bnai-mitzvah-club/2025-11-23
LOCATION:Congregation Or VeShalom
ORGANIZER;CN="Chana Mayer":MAILTO:buildingblocks@orveshalom.org
END:VEVENT
BEGIN:VEVENT
DTSTART;TZID=America/New_York:20251109T120000
DTEND;TZID=America/New_York:20251109T130000
DTSTAMP:20260424T035927
CREATED:20250619T193207Z
LAST-MODIFIED:20250619T193207Z
UID:10002285-1762689600-1762693200@www.orveshalom.org
SUMMARY:Hebrew Club
DESCRIPTION:Hebrew Club is a Hebrew-only immersive experience designed especially for children. The program is suitable both for Hebrew speakers and for beginners who want to strengthen their Hebrew skills. Through games\, crafts\, songs\, and interactive activities\, students will expand their vocabulary\, improve their speaking skills\, and build confidence—all in a fun and supportive environment. Topics include greetings\, colors\, food\, emotions\, Israeli culture\, and more. Open to the community. \nClick here to sign up if your child(ren) are already registered for Building Blocks Sunday School. \nClick here to sign up if your child(ren) are not in Building Blocks. \n 
URL:https://www.orveshalom.org/event/hebrew-club/2025-11-09
LOCATION:Congregation Or VeShalom
ORGANIZER;CN="Chana Mayer":MAILTO:buildingblocks@orveshalom.org
END:VEVENT
BEGIN:VEVENT
DTSTART;TZID=America/New_York:20251101T103000
DTEND;TZID=America/New_York:20251101T113000
DTSTAMP:20260424T035927
CREATED:20250813T143832Z
LAST-MODIFIED:20260210T204539Z
UID:10002307-1761993000-1761996600@www.orveshalom.org
SUMMARY:Shabbat Together
DESCRIPTION:Shabbat Together is held on the first Saturday each month\, featuring our Kavanah Minyan and Tot Shabbat & Jr. Congregation. \nThe Kavanah Minyan is an abbreviated\, informal service\, led by Rabbi Hearshen with easy to learn prayers and inspirational teachings in the Maslia Chapel.\nTot Shabbat & Jr. Congregation are informal\, interactive services for children of all ages held in the Preschool Wing.
URL:https://www.orveshalom.org/event/shabbat-together-2-2/2025-11-01
LOCATION:Congregation Or VeShalom
ATTACH;FMTTYPE=image/png:https://www.orveshalom.org/wp-content/uploads/2025/09/Shabbat-Together-Social-Media-NEW-9.29.25-small.png
END:VEVENT
BEGIN:VEVENT
DTSTART;TZID=America/New_York:20251026T103000
DTEND;TZID=America/New_York:20251026T113000
DTSTAMP:20260424T035927
CREATED:20250619T195112Z
LAST-MODIFIED:20250619T195112Z
UID:10002292-1761474600-1761478200@www.orveshalom.org
SUMMARY:B'nai Mitzvah Club
DESCRIPTION:The B’nai Mitzvah Club supports pre-teens on their journey toward becoming B’nai Mitzvah at OVS. This program combines meaningful Jewish learning with social connection and hands-on projects. Students explore Jewish identity\, values\, and traditions while engaging in activities that prepare them for this important milestone—through discussions\, creative projects\, and community-building experiences.
URL:https://www.orveshalom.org/event/bnai-mitzvah-club/2025-10-26
LOCATION:Congregation Or VeShalom
ORGANIZER;CN="Chana Mayer":MAILTO:buildingblocks@orveshalom.org
END:VEVENT
BEGIN:VEVENT
DTSTART;TZID=America/New_York:20251012T120000
DTEND;TZID=America/New_York:20251012T143000
DTSTAMP:20260424T035927
CREATED:20250916T124414Z
LAST-MODIFIED:20250929T183958Z
UID:10002367-1760270400-1760279400@www.orveshalom.org
SUMMARY:Sukkot BBQ
DESCRIPTION:Join us for a BBQ in the Sukkah. \nActivities for kids include: Crafts\, Critters\, Recycling\, Perfume Making & More \nActivities for adults include: Poker\, Mahjong\, Liquor Tasting & Backpack Buddies \n$10 per person includes food\, drinks & activities. Children under 3 are free. \nCLICK HERE TO SIGN UP.
URL:https://www.orveshalom.org/event/sukkotbbq2025
LOCATION:Congregation Or VeShalom
ATTACH;FMTTYPE=image/png:https://www.orveshalom.org/wp-content/uploads/2025/09/Sukkot-BBQ-Postcard-2025-FINAL-9.16.25-small.png
END:VEVENT
BEGIN:VEVENT
DTSTART;TZID=America/New_York:20251012T120000
DTEND;TZID=America/New_York:20251012T130000
DTSTAMP:20260424T035927
CREATED:20250619T193207Z
LAST-MODIFIED:20250619T193207Z
UID:10002284-1760270400-1760274000@www.orveshalom.org
SUMMARY:Hebrew Club
DESCRIPTION:Hebrew Club is a Hebrew-only immersive experience designed especially for children. The program is suitable both for Hebrew speakers and for beginners who want to strengthen their Hebrew skills. Through games\, crafts\, songs\, and interactive activities\, students will expand their vocabulary\, improve their speaking skills\, and build confidence—all in a fun and supportive environment. Topics include greetings\, colors\, food\, emotions\, Israeli culture\, and more. Open to the community. \nClick here to sign up if your child(ren) are already registered for Building Blocks Sunday School. \nClick here to sign up if your child(ren) are not in Building Blocks. \n 
URL:https://www.orveshalom.org/event/hebrew-club/2025-10-12
LOCATION:Congregation Or VeShalom
ORGANIZER;CN="Chana Mayer":MAILTO:buildingblocks@orveshalom.org
END:VEVENT
BEGIN:VEVENT
DTSTART;TZID=America/New_York:20251004T103000
DTEND;TZID=America/New_York:20251004T113000
DTSTAMP:20260424T035927
CREATED:20250813T143832Z
LAST-MODIFIED:20260210T204539Z
UID:10002306-1759573800-1759577400@www.orveshalom.org
SUMMARY:Shabbat Together
DESCRIPTION:Shabbat Together is held on the first Saturday each month\, featuring our Kavanah Minyan and Tot Shabbat & Jr. Congregation. \nThe Kavanah Minyan is an abbreviated\, informal service\, led by Rabbi Hearshen with easy to learn prayers and inspirational teachings in the Maslia Chapel.\nTot Shabbat & Jr. Congregation are informal\, interactive services for children of all ages held in the Preschool Wing.
URL:https://www.orveshalom.org/event/shabbat-together-2-2/2025-10-04
LOCATION:Congregation Or VeShalom
ATTACH;FMTTYPE=image/png:https://www.orveshalom.org/wp-content/uploads/2025/09/Shabbat-Together-Social-Media-NEW-9.29.25-small.png
END:VEVENT
BEGIN:VEVENT
DTSTART;TZID=America/New_York:20250921T103000
DTEND;TZID=America/New_York:20250921T123000
DTSTAMP:20260424T035927
CREATED:20250722T171913Z
LAST-MODIFIED:20250825T150149Z
UID:10002301-1758450600-1758457800@www.orveshalom.org
SUMMARY:Shofar Factory
DESCRIPTION:Join us for a special High Holiday program for young families.\nHelp dress the Torahs in special white High Holiday covers.\nLearn about the holidays and the significance of the Shofar.\nMake your own real Shofar.\nEat apples & honey & enjoy pizza for lunch.\n \nClick here to sign up.
URL:https://www.orveshalom.org/event/shofarfactory
LOCATION:Congregation Or VeShalom
ATTACH;FMTTYPE=image/png:https://www.orveshalom.org/wp-content/uploads/2025/07/Shofar-Factory-Poscard-2025-small-8.25.25.png
END:VEVENT
BEGIN:VEVENT
DTSTART;TZID=America/New_York:20250914T120000
DTEND;TZID=America/New_York:20250914T130000
DTSTAMP:20260424T035927
CREATED:20250619T193207Z
LAST-MODIFIED:20250619T193207Z
UID:10002283-1757851200-1757854800@www.orveshalom.org
SUMMARY:Hebrew Club
DESCRIPTION:Hebrew Club is a Hebrew-only immersive experience designed especially for children. The program is suitable both for Hebrew speakers and for beginners who want to strengthen their Hebrew skills. Through games\, crafts\, songs\, and interactive activities\, students will expand their vocabulary\, improve their speaking skills\, and build confidence—all in a fun and supportive environment. Topics include greetings\, colors\, food\, emotions\, Israeli culture\, and more. Open to the community. \nClick here to sign up if your child(ren) are already registered for Building Blocks Sunday School. \nClick here to sign up if your child(ren) are not in Building Blocks. \n 
URL:https://www.orveshalom.org/event/hebrew-club/2025-09-14
LOCATION:Congregation Or VeShalom
ORGANIZER;CN="Chana Mayer":MAILTO:buildingblocks@orveshalom.org
END:VEVENT
BEGIN:VEVENT
DTSTART;TZID=America/New_York:20250909T190000
DTEND;TZID=America/New_York:20250909T203000
DTSTAMP:20260424T035927
CREATED:20250828T142510Z
LAST-MODIFIED:20250902T144025Z
UID:10002365-1757444400-1757449800@www.orveshalom.org
SUMMARY:High Holiday Prep Class
DESCRIPTION:Join Rabbi Hearshen for an evening about the High Holidays\, from Rosh Hashana through Simchat Torah. Explore themes\, rituals and traditions and ways to elevate your High Holiday experience.  \nClick here to sign up.
URL:https://www.orveshalom.org/event/hhdprep25
LOCATION:Congregation Or VeShalom
ATTACH;FMTTYPE=image/png:https://www.orveshalom.org/wp-content/uploads/2025/08/Holiday-Prep-HHD-2025-Postcard-small-8.29.25.png
END:VEVENT
END:VCALENDAR