BEGIN:VCALENDAR
VERSION:2.0
PRODID:-//Congregation Or VeShalom - ECPv6.15.17.1//NONSGML v1.0//EN
CALSCALE:GREGORIAN
METHOD:PUBLISH
X-ORIGINAL-URL:https://www.orveshalom.org
X-WR-CALDESC:Events for Congregation Or VeShalom
REFRESH-INTERVAL;VALUE=DURATION:PT1H
X-Robots-Tag:noindex
X-PUBLISHED-TTL:PT1H
BEGIN:VTIMEZONE
TZID:America/New_York
BEGIN:DAYLIGHT
TZOFFSETFROM:-0500
TZOFFSETTO:-0400
TZNAME:EDT
DTSTART:20240310T070000
END:DAYLIGHT
BEGIN:STANDARD
TZOFFSETFROM:-0400
TZOFFSETTO:-0500
TZNAME:EST
DTSTART:20241103T060000
END:STANDARD
BEGIN:DAYLIGHT
TZOFFSETFROM:-0500
TZOFFSETTO:-0400
TZNAME:EDT
DTSTART:20250309T070000
END:DAYLIGHT
BEGIN:STANDARD
TZOFFSETFROM:-0400
TZOFFSETTO:-0500
TZNAME:EST
DTSTART:20251102T060000
END:STANDARD
BEGIN:DAYLIGHT
TZOFFSETFROM:-0500
TZOFFSETTO:-0400
TZNAME:EDT
DTSTART:20260308T070000
END:DAYLIGHT
BEGIN:STANDARD
TZOFFSETFROM:-0400
TZOFFSETTO:-0500
TZNAME:EST
DTSTART:20261101T060000
END:STANDARD
END:VTIMEZONE
BEGIN:VEVENT
DTSTART;TZID=America/New_York:20251026T103000
DTEND;TZID=America/New_York:20251026T113000
DTSTAMP:20260424T150501
CREATED:20250619T195112Z
LAST-MODIFIED:20250619T195112Z
UID:10002292-1761474600-1761478200@www.orveshalom.org
SUMMARY:B'nai Mitzvah Club
DESCRIPTION:The B’nai Mitzvah Club supports pre-teens on their journey toward becoming B’nai Mitzvah at OVS. This program combines meaningful Jewish learning with social connection and hands-on projects. Students explore Jewish identity\, values\, and traditions while engaging in activities that prepare them for this important milestone—through discussions\, creative projects\, and community-building experiences.
URL:https://www.orveshalom.org/event/bnai-mitzvah-club/2025-10-26
LOCATION:Congregation Or VeShalom
ORGANIZER;CN="Chana Mayer":MAILTO:buildingblocks@orveshalom.org
END:VEVENT
BEGIN:VEVENT
DTSTART;TZID=America/New_York:20251012T120000
DTEND;TZID=America/New_York:20251012T130000
DTSTAMP:20260424T150501
CREATED:20250619T193207Z
LAST-MODIFIED:20250619T193207Z
UID:10002284-1760270400-1760274000@www.orveshalom.org
SUMMARY:Hebrew Club
DESCRIPTION:Hebrew Club is a Hebrew-only immersive experience designed especially for children. The program is suitable both for Hebrew speakers and for beginners who want to strengthen their Hebrew skills. Through games\, crafts\, songs\, and interactive activities\, students will expand their vocabulary\, improve their speaking skills\, and build confidence—all in a fun and supportive environment. Topics include greetings\, colors\, food\, emotions\, Israeli culture\, and more. Open to the community. \nClick here to sign up if your child(ren) are already registered for Building Blocks Sunday School. \nClick here to sign up if your child(ren) are not in Building Blocks. \n 
URL:https://www.orveshalom.org/event/hebrew-club/2025-10-12
LOCATION:Congregation Or VeShalom
ORGANIZER;CN="Chana Mayer":MAILTO:buildingblocks@orveshalom.org
END:VEVENT
BEGIN:VEVENT
DTSTART;TZID=America/New_York:20250914T120000
DTEND;TZID=America/New_York:20250914T130000
DTSTAMP:20260424T150501
CREATED:20250619T193207Z
LAST-MODIFIED:20250619T193207Z
UID:10002283-1757851200-1757854800@www.orveshalom.org
SUMMARY:Hebrew Club
DESCRIPTION:Hebrew Club is a Hebrew-only immersive experience designed especially for children. The program is suitable both for Hebrew speakers and for beginners who want to strengthen their Hebrew skills. Through games\, crafts\, songs\, and interactive activities\, students will expand their vocabulary\, improve their speaking skills\, and build confidence—all in a fun and supportive environment. Topics include greetings\, colors\, food\, emotions\, Israeli culture\, and more. Open to the community. \nClick here to sign up if your child(ren) are already registered for Building Blocks Sunday School. \nClick here to sign up if your child(ren) are not in Building Blocks. \n 
URL:https://www.orveshalom.org/event/hebrew-club/2025-09-14
LOCATION:Congregation Or VeShalom
ORGANIZER;CN="Chana Mayer":MAILTO:buildingblocks@orveshalom.org
END:VEVENT
BEGIN:VEVENT
DTSTART;TZID=America/New_York:20250824T103000
DTEND;TZID=America/New_York:20250824T113000
DTSTAMP:20260424T150501
CREATED:20250619T195112Z
LAST-MODIFIED:20250619T195112Z
UID:10002291-1756031400-1756035000@www.orveshalom.org
SUMMARY:B'nai Mitzvah Club
DESCRIPTION:The B’nai Mitzvah Club supports pre-teens on their journey toward becoming B’nai Mitzvah at OVS. This program combines meaningful Jewish learning with social connection and hands-on projects. Students explore Jewish identity\, values\, and traditions while engaging in activities that prepare them for this important milestone—through discussions\, creative projects\, and community-building experiences.
URL:https://www.orveshalom.org/event/bnai-mitzvah-club/2025-08-24
LOCATION:Congregation Or VeShalom
ORGANIZER;CN="Chana Mayer":MAILTO:buildingblocks@orveshalom.org
END:VEVENT
END:VCALENDAR