BEGIN:VCALENDAR
VERSION:2.0
PRODID:-//Congregation Or VeShalom - ECPv6.15.17.1//NONSGML v1.0//EN
CALSCALE:GREGORIAN
METHOD:PUBLISH
X-ORIGINAL-URL:https://www.orveshalom.org
X-WR-CALDESC:Events for Congregation Or VeShalom
REFRESH-INTERVAL;VALUE=DURATION:PT1H
X-Robots-Tag:noindex
X-PUBLISHED-TTL:PT1H
BEGIN:VTIMEZONE
TZID:America/New_York
BEGIN:DAYLIGHT
TZOFFSETFROM:-0500
TZOFFSETTO:-0400
TZNAME:EDT
DTSTART:20250309T070000
END:DAYLIGHT
BEGIN:STANDARD
TZOFFSETFROM:-0400
TZOFFSETTO:-0500
TZNAME:EST
DTSTART:20251102T060000
END:STANDARD
BEGIN:DAYLIGHT
TZOFFSETFROM:-0500
TZOFFSETTO:-0400
TZNAME:EDT
DTSTART:20260308T070000
END:DAYLIGHT
BEGIN:STANDARD
TZOFFSETFROM:-0400
TZOFFSETTO:-0500
TZNAME:EST
DTSTART:20261101T060000
END:STANDARD
BEGIN:DAYLIGHT
TZOFFSETFROM:-0500
TZOFFSETTO:-0400
TZNAME:EDT
DTSTART:20270314T070000
END:DAYLIGHT
BEGIN:STANDARD
TZOFFSETFROM:-0400
TZOFFSETTO:-0500
TZNAME:EST
DTSTART:20271107T060000
END:STANDARD
END:VTIMEZONE
BEGIN:VEVENT
DTSTART;TZID=America/New_York:20260426T103000
DTEND;TZID=America/New_York:20260426T113000
DTSTAMP:20260424T091637
CREATED:20250619T195112Z
LAST-MODIFIED:20250619T195112Z
UID:10002297-1777199400-1777203000@www.orveshalom.org
SUMMARY:B'nai Mitzvah Club
DESCRIPTION:The B’nai Mitzvah Club supports pre-teens on their journey toward becoming B’nai Mitzvah at OVS. This program combines meaningful Jewish learning with social connection and hands-on projects. Students explore Jewish identity\, values\, and traditions while engaging in activities that prepare them for this important milestone—through discussions\, creative projects\, and community-building experiences.
URL:https://www.orveshalom.org/event/bnai-mitzvah-club/2026-04-26
LOCATION:Congregation Or VeShalom
ORGANIZER;CN="Chana Mayer":MAILTO:buildingblocks@orveshalom.org
END:VEVENT
END:VCALENDAR