BEGIN:VCALENDAR
VERSION:2.0
PRODID:-//Congregation Or VeShalom - ECPv6.15.17.1//NONSGML v1.0//EN
CALSCALE:GREGORIAN
METHOD:PUBLISH
X-WR-CALNAME:Congregation Or VeShalom
X-ORIGINAL-URL:https://www.orveshalom.org
X-WR-CALDESC:Events for Congregation Or VeShalom
REFRESH-INTERVAL;VALUE=DURATION:PT1H
X-Robots-Tag:noindex
X-PUBLISHED-TTL:PT1H
BEGIN:VTIMEZONE
TZID:America/New_York
BEGIN:DAYLIGHT
TZOFFSETFROM:-0500
TZOFFSETTO:-0400
TZNAME:EDT
DTSTART:20240310T070000
END:DAYLIGHT
BEGIN:STANDARD
TZOFFSETFROM:-0400
TZOFFSETTO:-0500
TZNAME:EST
DTSTART:20241103T060000
END:STANDARD
BEGIN:DAYLIGHT
TZOFFSETFROM:-0500
TZOFFSETTO:-0400
TZNAME:EDT
DTSTART:20250309T070000
END:DAYLIGHT
BEGIN:STANDARD
TZOFFSETFROM:-0400
TZOFFSETTO:-0500
TZNAME:EST
DTSTART:20251102T060000
END:STANDARD
BEGIN:DAYLIGHT
TZOFFSETFROM:-0500
TZOFFSETTO:-0400
TZNAME:EDT
DTSTART:20260308T070000
END:DAYLIGHT
BEGIN:STANDARD
TZOFFSETFROM:-0400
TZOFFSETTO:-0500
TZNAME:EST
DTSTART:20261101T060000
END:STANDARD
END:VTIMEZONE
BEGIN:VEVENT
DTSTART;TZID=America/New_York:20250817T090000
DTEND;TZID=America/New_York:20250817T120000
DTSTAMP:20260422T113033
CREATED:20250417T211618Z
LAST-MODIFIED:20250507T153601Z
UID:10000241-1755421200-1755432000@www.orveshalom.org
SUMMARY:Building Blocks Sunday School
DESCRIPTION:Building Blocks Sunday School at Congregation Or VeShalom is for children ages 2 – 12. Areas of focus include prayer\, Jewish holidays\, Jewish values\, modern Hebrew\, Hebrew reading\, Israel\, and Sephardic Jewish culture.
URL:https://www.orveshalom.org/event/building-blocks-sunday-school-2025-2026/2025-08-17
ATTACH;FMTTYPE=image/png:https://www.orveshalom.org/wp-content/uploads/2025/04/Building-Blocks-Postcard-2025-2026-5.2.25-small.png
END:VEVENT
BEGIN:VEVENT
DTSTART;TZID=America/New_York:20250817T170000
DTEND;TZID=America/New_York:20250817T190000
DTSTAMP:20260422T113033
CREATED:20250507T190204Z
LAST-MODIFIED:20250701T154851Z
UID:10002249-1755450000-1755457200@www.orveshalom.org
SUMMARY:Mitzvot Celebration
DESCRIPTION:Join us for our annual Mitzvot Celebration 2025 and Keftes Dinner on Sunday\, August 17 from 5:00 – 7:00 pm.\nDinner is $20 for adults\, $5 for children ages 3-12. Children under 3 are free.\nComplimentary Childcare with advanced registration required by August 11.
URL:https://www.orveshalom.org/event/mitzvot-auction
ATTACH;FMTTYPE=image/png:https://www.orveshalom.org/wp-content/uploads/2025/05/Mitzvot-Celebration-2025-Postcard-NEW-DATE-small-.png
END:VEVENT
BEGIN:VEVENT
DTSTART;TZID=America/New_York:20250819T093000
DTEND;TZID=America/New_York:20250819T093000
DTSTAMP:20260422T113033
CREATED:20250417T211618Z
LAST-MODIFIED:20250418T135033Z
UID:10000242-1755595800-1755595800@www.orveshalom.org
SUMMARY:Bureka Making
DESCRIPTION:Join the OVS Sisterhood for weekly Bureka Making
URL:https://www.orveshalom.org/event/bureka-making-21
END:VEVENT
BEGIN:VEVENT
DTSTART;TZID=America/New_York:20250819T123000
DTEND;TZID=America/New_York:20250819T133000
DTSTAMP:20260422T113033
CREATED:20250806T162423Z
LAST-MODIFIED:20250806T162641Z
UID:10002303-1755606600-1755610200@www.orveshalom.org
SUMMARY:Backpack Buddies
DESCRIPTION:Join us to do a Mitzvah! OVS is partnering with Backpack Buddies to provide food for local students at our community school\, Woodward Elementary\, who have little or nothing to eat on weekends. Help us pack the food immediately following Sisterhood Baking.
URL:https://www.orveshalom.org/event/backpack-buddies
ATTACH;FMTTYPE=image/png:https://www.orveshalom.org/wp-content/uploads/2025/08/August-September-2025-Postcard-small.png
END:VEVENT
BEGIN:VEVENT
DTSTART;TZID=America/New_York:20250820T190000
DTEND;TZID=America/New_York:20250820T203000
DTSTAMP:20260422T113033
CREATED:20250722T191936Z
LAST-MODIFIED:20250722T191936Z
UID:10002271-1755716400-1755721800@www.orveshalom.org
SUMMARY:Judaism: Back to Basics
DESCRIPTION:This year-long class started in January 2025. Topics include Jewish History\, Jewish Holidays\, Jewish Philosophy/Law\, Daily Jewish Living and Lifecycle Events. \nRegistration is ongoing. Past classes recordings are available for participants joining late. Please call Nicole at 404-633-1737 for details if you want to sign up.
URL:https://www.orveshalom.org/event/judaism-back-to-basics-2/2025-08-20
ATTACH;FMTTYPE=image/png:https://www.orveshalom.org/wp-content/uploads/2025/05/Judaism-Back-to-Basics-Postcard-5.8.25-small.png
END:VEVENT
BEGIN:VEVENT
DTSTART;TZID=America/New_York:20250822T180000
DTEND;TZID=America/New_York:20250822T180000
DTSTAMP:20260422T113033
CREATED:20250417T211618Z
LAST-MODIFIED:20250418T135033Z
UID:10000243-1755885600-1755885600@www.orveshalom.org
SUMMARY:Arvit
DESCRIPTION:Kabbalat Shabbat/Maariv
URL:https://www.orveshalom.org/event/arvit-21
END:VEVENT
BEGIN:VEVENT
DTSTART;TZID=America/New_York:20250822T195800
DTEND;TZID=America/New_York:20250822T195800
DTSTAMP:20260422T113033
CREATED:20250417T211618Z
LAST-MODIFIED:20250418T135033Z
UID:10000244-1755892680-1755892680@www.orveshalom.org
SUMMARY:Candle Lighting
DESCRIPTION:
URL:https://www.orveshalom.org/event/candle-lighting-26
END:VEVENT
BEGIN:VEVENT
DTSTART;TZID=America/New_York:20250823T000000
DTEND;TZID=America/New_York:20250823T000000
DTSTAMP:20260422T113033
CREATED:20250418T135043Z
LAST-MODIFIED:20250418T135043Z
UID:10000248-1755907200-1755907200@www.orveshalom.org
SUMMARY:Shabbat Mevarchim
DESCRIPTION:
URL:https://www.orveshalom.org/event/shabbat-mevarchim-5
END:VEVENT
BEGIN:VEVENT
DTSTART;TZID=America/New_York:20250823T000000
DTEND;TZID=America/New_York:20250823T000000
DTSTAMP:20260422T113033
CREATED:20250418T135044Z
LAST-MODIFIED:20250418T135044Z
UID:10000249-1755907200-1755907200@www.orveshalom.org
SUMMARY:Parshat Re'eh
DESCRIPTION:
URL:https://www.orveshalom.org/event/parshat-reeh
END:VEVENT
BEGIN:VEVENT
DTSTART;TZID=America/New_York:20250823T084600
DTEND;TZID=America/New_York:20250823T084600
DTSTAMP:20260422T113033
CREATED:20250417T211618Z
LAST-MODIFIED:20250418T135033Z
UID:10000245-1755938760-1755938760@www.orveshalom.org
SUMMARY:Shacharit
DESCRIPTION:
URL:https://www.orveshalom.org/event/shacharit-21
END:VEVENT
BEGIN:VEVENT
DTSTART;TZID=America/New_York:20250823T191000
DTEND;TZID=America/New_York:20250823T191000
DTSTAMP:20260422T113033
CREATED:20250418T135043Z
LAST-MODIFIED:20250418T135043Z
UID:10000246-1755976200-1755976200@www.orveshalom.org
SUMMARY:Mincha/Maariv
DESCRIPTION:Shabbat Mincha/Maariv
URL:https://www.orveshalom.org/event/mincha-maariv-21
END:VEVENT
BEGIN:VEVENT
DTSTART;TZID=America/New_York:20250823T205000
DTEND;TZID=America/New_York:20250823T205000
DTSTAMP:20260422T113033
CREATED:20250418T135043Z
LAST-MODIFIED:20250418T135043Z
UID:10000247-1755982200-1755982200@www.orveshalom.org
SUMMARY:Havdalah
DESCRIPTION:
URL:https://www.orveshalom.org/event/havdalah-22
END:VEVENT
END:VCALENDAR