BEGIN:VCALENDAR
VERSION:2.0
PRODID:-//Congregation Or VeShalom - ECPv6.15.17.1//NONSGML v1.0//EN
CALSCALE:GREGORIAN
METHOD:PUBLISH
X-ORIGINAL-URL:https://www.orveshalom.org
X-WR-CALDESC:Events for Congregation Or VeShalom
REFRESH-INTERVAL;VALUE=DURATION:PT1H
X-Robots-Tag:noindex
X-PUBLISHED-TTL:PT1H
BEGIN:VTIMEZONE
TZID:America/New_York
BEGIN:DAYLIGHT
TZOFFSETFROM:-0500
TZOFFSETTO:-0400
TZNAME:EDT
DTSTART:20240310T070000
END:DAYLIGHT
BEGIN:STANDARD
TZOFFSETFROM:-0400
TZOFFSETTO:-0500
TZNAME:EST
DTSTART:20241103T060000
END:STANDARD
BEGIN:DAYLIGHT
TZOFFSETFROM:-0500
TZOFFSETTO:-0400
TZNAME:EDT
DTSTART:20250309T070000
END:DAYLIGHT
BEGIN:STANDARD
TZOFFSETFROM:-0400
TZOFFSETTO:-0500
TZNAME:EST
DTSTART:20251102T060000
END:STANDARD
BEGIN:DAYLIGHT
TZOFFSETFROM:-0500
TZOFFSETTO:-0400
TZNAME:EDT
DTSTART:20260308T070000
END:DAYLIGHT
BEGIN:STANDARD
TZOFFSETFROM:-0400
TZOFFSETTO:-0500
TZNAME:EST
DTSTART:20261101T060000
END:STANDARD
END:VTIMEZONE
BEGIN:VEVENT
DTSTART;TZID=America/New_York:20250810T090000
DTEND;TZID=America/New_York:20250810T140000
DTSTAMP:20260422T055711
CREATED:20250722T175445Z
LAST-MODIFIED:20250722T175445Z
UID:10002302-1754816400-1754834400@www.orveshalom.org
SUMMARY:Jewish Community Blood Drive
DESCRIPTION:Advanced registration is strongly recommended. Enter code J W V for “find a blood drive”.
URL:https://www.orveshalom.org/event/jewish-community-blood-drive
LOCATION:Ahavath Achim Synagogue\, 600 Peachtree Battle Avenue\, Atlanta\, GA\, 30327\, United States
ATTACH;FMTTYPE=image/png:https://www.orveshalom.org/wp-content/uploads/2025/07/Blood-Drive-August-10-2025-Postcard-small.png
END:VEVENT
BEGIN:VEVENT
DTSTART;TZID=America/New_York:20250812T093000
DTEND;TZID=America/New_York:20250812T093000
DTSTAMP:20260422T055711
CREATED:20250417T204335Z
LAST-MODIFIED:20250418T135013Z
UID:10000234-1754991000-1754991000@www.orveshalom.org
SUMMARY:Bureka Making
DESCRIPTION:Join the OVS Sisterhood for weekly Bureka Making
URL:https://www.orveshalom.org/event/bureka-making-20
END:VEVENT
BEGIN:VEVENT
DTSTART;TZID=America/New_York:20250813T190000
DTEND;TZID=America/New_York:20250813T203000
DTSTAMP:20260422T055711
CREATED:20250722T191936Z
LAST-MODIFIED:20250722T191936Z
UID:10002270-1755111600-1755117000@www.orveshalom.org
SUMMARY:Judaism: Back to Basics
DESCRIPTION:This year-long class started in January 2025. Topics include Jewish History\, Jewish Holidays\, Jewish Philosophy/Law\, Daily Jewish Living and Lifecycle Events. \nRegistration is ongoing. Past classes recordings are available for participants joining late. Please call Nicole at 404-633-1737 for details if you want to sign up.
URL:https://www.orveshalom.org/event/judaism-back-to-basics-2/2025-08-13
ATTACH;FMTTYPE=image/png:https://www.orveshalom.org/wp-content/uploads/2025/05/Judaism-Back-to-Basics-Postcard-5.8.25-small.png
END:VEVENT
BEGIN:VEVENT
DTSTART;TZID=America/New_York:20250815T180000
DTEND;TZID=America/New_York:20250815T180000
DTSTAMP:20260422T055711
CREATED:20250417T204335Z
LAST-MODIFIED:20250418T135013Z
UID:10000235-1755280800-1755280800@www.orveshalom.org
SUMMARY:Arvit
DESCRIPTION:Kabbalat Shabbat/Maariv
URL:https://www.orveshalom.org/event/arvit-20
END:VEVENT
BEGIN:VEVENT
DTSTART;TZID=America/New_York:20250815T200600
DTEND;TZID=America/New_York:20250815T200600
DTSTAMP:20260422T055712
CREATED:20250417T205826Z
LAST-MODIFIED:20250418T135030Z
UID:10000236-1755288360-1755288360@www.orveshalom.org
SUMMARY:Candle Lighting
DESCRIPTION:
URL:https://www.orveshalom.org/event/candle-lighting-25
END:VEVENT
BEGIN:VEVENT
DTSTART;TZID=America/New_York:20250816T000000
DTEND;TZID=America/New_York:20250816T000000
DTSTAMP:20260422T055712
CREATED:20250417T205827Z
LAST-MODIFIED:20250418T135031Z
UID:10000240-1755302400-1755302400@www.orveshalom.org
SUMMARY:Parshat Eikev
DESCRIPTION:
URL:https://www.orveshalom.org/event/parshat-eikev
END:VEVENT
BEGIN:VEVENT
DTSTART;TZID=America/New_York:20250816T084600
DTEND;TZID=America/New_York:20250816T084600
DTSTAMP:20260422T055712
CREATED:20250417T205826Z
LAST-MODIFIED:20250418T135030Z
UID:10000237-1755333960-1755333960@www.orveshalom.org
SUMMARY:Shacharit
DESCRIPTION:
URL:https://www.orveshalom.org/event/shacharit-20
END:VEVENT
BEGIN:VEVENT
DTSTART;TZID=America/New_York:20250816T192000
DTEND;TZID=America/New_York:20250816T192000
DTSTAMP:20260422T055712
CREATED:20250417T205826Z
LAST-MODIFIED:20250418T135031Z
UID:10000238-1755372000-1755372000@www.orveshalom.org
SUMMARY:Mincha/Maariv
DESCRIPTION:Shabbat Mincha/Maariv
URL:https://www.orveshalom.org/event/mincha-maariv-20
END:VEVENT
BEGIN:VEVENT
DTSTART;TZID=America/New_York:20250816T205900
DTEND;TZID=America/New_York:20250816T205900
DTSTAMP:20260422T055712
CREATED:20250417T205827Z
LAST-MODIFIED:20250418T135031Z
UID:10000239-1755377940-1755377940@www.orveshalom.org
SUMMARY:Havdalah
DESCRIPTION:
URL:https://www.orveshalom.org/event/havdalah-21
END:VEVENT
END:VCALENDAR