BEGIN:VCALENDAR
VERSION:2.0
PRODID:-//Congregation Or VeShalom - ECPv6.15.17.1//NONSGML v1.0//EN
CALSCALE:GREGORIAN
METHOD:PUBLISH
X-ORIGINAL-URL:https://www.orveshalom.org
X-WR-CALDESC:Events for Congregation Or VeShalom
REFRESH-INTERVAL;VALUE=DURATION:PT1H
X-Robots-Tag:noindex
X-PUBLISHED-TTL:PT1H
BEGIN:VTIMEZONE
TZID:America/New_York
BEGIN:DAYLIGHT
TZOFFSETFROM:-0500
TZOFFSETTO:-0400
TZNAME:EDT
DTSTART:20250309T070000
END:DAYLIGHT
BEGIN:STANDARD
TZOFFSETFROM:-0400
TZOFFSETTO:-0500
TZNAME:EST
DTSTART:20251102T060000
END:STANDARD
BEGIN:DAYLIGHT
TZOFFSETFROM:-0500
TZOFFSETTO:-0400
TZNAME:EDT
DTSTART:20260308T070000
END:DAYLIGHT
BEGIN:STANDARD
TZOFFSETFROM:-0400
TZOFFSETTO:-0500
TZNAME:EST
DTSTART:20261101T060000
END:STANDARD
BEGIN:DAYLIGHT
TZOFFSETFROM:-0500
TZOFFSETTO:-0400
TZNAME:EDT
DTSTART:20270314T070000
END:DAYLIGHT
BEGIN:STANDARD
TZOFFSETFROM:-0400
TZOFFSETTO:-0500
TZNAME:EST
DTSTART:20271107T060000
END:STANDARD
END:VTIMEZONE
BEGIN:VEVENT
DTSTART;TZID=America/New_York:20260521T201700
DTEND;TZID=America/New_York:20260521T201700
DTSTAMP:20260424T134329
CREATED:20250418T140538Z
LAST-MODIFIED:20250418T140538Z
UID:10000668-1779394620-1779394620@www.orveshalom.org
SUMMARY:Candle Lighting
DESCRIPTION:
URL:https://www.orveshalom.org/event/candle-lighting-76
END:VEVENT
BEGIN:VEVENT
DTSTART;TZID=America/New_York:20260522T000000
DTEND;TZID=America/New_York:20260522T000000
DTSTAMP:20260424T134329
CREATED:20250418T140541Z
LAST-MODIFIED:20250418T140541Z
UID:10000673-1779408000-1779408000@www.orveshalom.org
SUMMARY:Shavuot - 1st Day
DESCRIPTION:
URL:https://www.orveshalom.org/event/shavuot-1st-day-2
END:VEVENT
BEGIN:VEVENT
DTSTART;TZID=America/New_York:20260522T180000
DTEND;TZID=America/New_York:20260522T180000
DTSTAMP:20260424T134329
CREATED:20250418T140540Z
LAST-MODIFIED:20250418T140540Z
UID:10000671-1779472800-1779472800@www.orveshalom.org
SUMMARY:Arvit
DESCRIPTION:Kabbalat Shabbat/Maariv
URL:https://www.orveshalom.org/event/arvit-60
END:VEVENT
BEGIN:VEVENT
DTSTART;TZID=America/New_York:20260522T201800
DTEND;TZID=America/New_York:20260522T201800
DTSTAMP:20260424T134329
CREATED:20250418T140541Z
LAST-MODIFIED:20250418T140541Z
UID:10000672-1779481080-1779481080@www.orveshalom.org
SUMMARY:Candle Lighting
DESCRIPTION:
URL:https://www.orveshalom.org/event/candle-lighting-77
END:VEVENT
BEGIN:VEVENT
DTSTART;TZID=America/New_York:20260523T000000
DTEND;TZID=America/New_York:20260523T000000
DTSTAMP:20260424T134329
CREATED:20250418T140545Z
LAST-MODIFIED:20250418T140545Z
UID:10000677-1779494400-1779494400@www.orveshalom.org
SUMMARY:Shavuot
DESCRIPTION:
URL:https://www.orveshalom.org/event/shavuot-2
END:VEVENT
BEGIN:VEVENT
DTSTART;TZID=America/New_York:20260523T000000
DTEND;TZID=America/New_York:20260523T000000
DTSTAMP:20260424T134329
CREATED:20250418T140545Z
LAST-MODIFIED:20250418T140545Z
UID:10000678-1779494400-1779494400@www.orveshalom.org
SUMMARY:Yizkor
DESCRIPTION:
URL:https://www.orveshalom.org/event/yizkor-6
END:VEVENT
BEGIN:VEVENT
DTSTART;TZID=America/New_York:20260523T084600
DTEND;TZID=America/New_York:20260523T084600
DTSTAMP:20260424T134329
CREATED:20250418T140541Z
LAST-MODIFIED:20250418T140541Z
UID:10000674-1779525960-1779525960@www.orveshalom.org
SUMMARY:Shacharit
DESCRIPTION:
URL:https://www.orveshalom.org/event/shacharit-60
END:VEVENT
BEGIN:VEVENT
DTSTART;TZID=America/New_York:20260523T123000
DTEND;TZID=America/New_York:20260523T133000
DTSTAMP:20260424T134329
CREATED:20260211T201809Z
LAST-MODIFIED:20260211T201809Z
UID:10002489-1779539400-1779543000@www.orveshalom.org
SUMMARY:Hebrew for Prayer
DESCRIPTION:Learn to read and understand the prayers in our Shabbat morning services. With Education Director\, Chana Mayer immediately following Kiddush each week. \nRSVP requested. \nCLICK HERE TO SIGN UP.
URL:https://www.orveshalom.org/event/hebrewprayer/2026-05-23
ATTACH;FMTTYPE=image/png:https://www.orveshalom.org/wp-content/uploads/2026/02/Hebrew-for-Prayer-on-Shabbat-2.5.26-small.png
END:VEVENT
BEGIN:VEVENT
DTSTART;TZID=America/New_York:20260523T194000
DTEND;TZID=America/New_York:20260523T194000
DTSTAMP:20260424T134329
CREATED:20250418T140541Z
LAST-MODIFIED:20250418T140541Z
UID:10000675-1779565200-1779565200@www.orveshalom.org
SUMMARY:Mincha/Maariv
DESCRIPTION:Shabbat Mincha/Maariv
URL:https://www.orveshalom.org/event/mincha-maariv-60
END:VEVENT
BEGIN:VEVENT
DTSTART;TZID=America/New_York:20260523T211300
DTEND;TZID=America/New_York:20260523T211300
DTSTAMP:20260424T134329
CREATED:20250418T140545Z
LAST-MODIFIED:20250418T140545Z
UID:10000676-1779570780-1779570780@www.orveshalom.org
SUMMARY:Havdalah
DESCRIPTION:
URL:https://www.orveshalom.org/event/havdalah-66
END:VEVENT
BEGIN:VEVENT
DTSTART;TZID=America/New_York:20260525T000000
DTEND;TZID=America/New_York:20260525T000000
DTSTAMP:20260424T134329
CREATED:20250418T140545Z
LAST-MODIFIED:20250418T140545Z
UID:10000679-1779667200-1779667200@www.orveshalom.org
SUMMARY:Memorial Day
DESCRIPTION:
URL:https://www.orveshalom.org/event/memorial-day-2
END:VEVENT
BEGIN:VEVENT
DTSTART;TZID=America/New_York:20260526T093000
DTEND;TZID=America/New_York:20260526T093000
DTSTAMP:20260424T134329
CREATED:20250418T140545Z
LAST-MODIFIED:20250418T140545Z
UID:10000680-1779787800-1779787800@www.orveshalom.org
SUMMARY:Bureka Making
DESCRIPTION:Join the OVS Sisterhood for weekly Bureka Making
URL:https://www.orveshalom.org/event/bureka-making-61
END:VEVENT
BEGIN:VEVENT
DTSTART;TZID=America/New_York:20260529T180000
DTEND;TZID=America/New_York:20260529T180000
DTSTAMP:20260424T134329
CREATED:20250418T140546Z
LAST-MODIFIED:20250418T140546Z
UID:10000681-1780077600-1780077600@www.orveshalom.org
SUMMARY:Arvit
DESCRIPTION:Kabbalat Shabbat/Maariv
URL:https://www.orveshalom.org/event/arvit-61
END:VEVENT
BEGIN:VEVENT
DTSTART;TZID=America/New_York:20260529T202300
DTEND;TZID=America/New_York:20260529T202300
DTSTAMP:20260424T134329
CREATED:20250418T140547Z
LAST-MODIFIED:20250418T140547Z
UID:10000682-1780086180-1780086180@www.orveshalom.org
SUMMARY:Candle Lighting
DESCRIPTION:
URL:https://www.orveshalom.org/event/candle-lighting-78
END:VEVENT
BEGIN:VEVENT
DTSTART;TZID=America/New_York:20260530T000000
DTEND;TZID=America/New_York:20260530T000000
DTSTAMP:20260424T134329
CREATED:20250418T140606Z
LAST-MODIFIED:20250418T140606Z
UID:10000686-1780099200-1780099200@www.orveshalom.org
SUMMARY:Parshat Nasso
DESCRIPTION:
URL:https://www.orveshalom.org/event/parshat-nasso-2
END:VEVENT
BEGIN:VEVENT
DTSTART;TZID=America/New_York:20260530T084600
DTEND;TZID=America/New_York:20260530T084600
DTSTAMP:20260424T134329
CREATED:20250418T140547Z
LAST-MODIFIED:20250418T140547Z
UID:10000683-1780130760-1780130760@www.orveshalom.org
SUMMARY:Shacharit
DESCRIPTION:
URL:https://www.orveshalom.org/event/shacharit-61
END:VEVENT
BEGIN:VEVENT
DTSTART;TZID=America/New_York:20260530T123000
DTEND;TZID=America/New_York:20260530T133000
DTSTAMP:20260424T134329
CREATED:20260211T201809Z
LAST-MODIFIED:20260211T201809Z
UID:10002490-1780144200-1780147800@www.orveshalom.org
SUMMARY:Hebrew for Prayer
DESCRIPTION:Learn to read and understand the prayers in our Shabbat morning services. With Education Director\, Chana Mayer immediately following Kiddush each week. \nRSVP requested. \nCLICK HERE TO SIGN UP.
URL:https://www.orveshalom.org/event/hebrewprayer/2026-05-30
ATTACH;FMTTYPE=image/png:https://www.orveshalom.org/wp-content/uploads/2026/02/Hebrew-for-Prayer-on-Shabbat-2.5.26-small.png
END:VEVENT
BEGIN:VEVENT
DTSTART;TZID=America/New_York:20260530T194000
DTEND;TZID=America/New_York:20260530T194000
DTSTAMP:20260424T134329
CREATED:20250418T140547Z
LAST-MODIFIED:20250418T140547Z
UID:10000684-1780170000-1780170000@www.orveshalom.org
SUMMARY:Mincha/Maariv
DESCRIPTION:Shabbat Mincha/Maariv
URL:https://www.orveshalom.org/event/mincha-maariv-61
END:VEVENT
BEGIN:VEVENT
DTSTART;TZID=America/New_York:20260530T211700
DTEND;TZID=America/New_York:20260530T211700
DTSTAMP:20260424T134329
CREATED:20250418T140547Z
LAST-MODIFIED:20250418T140547Z
UID:10000685-1780175820-1780175820@www.orveshalom.org
SUMMARY:Havdalah
DESCRIPTION:
URL:https://www.orveshalom.org/event/havdalah-67
END:VEVENT
BEGIN:VEVENT
DTSTART;TZID=America/New_York:20260602T093000
DTEND;TZID=America/New_York:20260602T093000
DTSTAMP:20260424T134329
CREATED:20250418T140606Z
LAST-MODIFIED:20250418T140606Z
UID:10000687-1780392600-1780392600@www.orveshalom.org
SUMMARY:Bureka Making
DESCRIPTION:Join the OVS Sisterhood for weekly Bureka Making
URL:https://www.orveshalom.org/event/bureka-making-62
END:VEVENT
BEGIN:VEVENT
DTSTART;TZID=America/New_York:20260605T180000
DTEND;TZID=America/New_York:20260605T180000
DTSTAMP:20260424T134329
CREATED:20250418T140606Z
LAST-MODIFIED:20250418T140606Z
UID:10000688-1780682400-1780682400@www.orveshalom.org
SUMMARY:Arvit
DESCRIPTION:Kabbalat Shabbat/Maariv
URL:https://www.orveshalom.org/event/arvit-62
END:VEVENT
BEGIN:VEVENT
DTSTART;TZID=America/New_York:20260605T202700
DTEND;TZID=America/New_York:20260605T202700
DTSTAMP:20260424T134329
CREATED:20250418T140607Z
LAST-MODIFIED:20250418T140607Z
UID:10000689-1780691220-1780691220@www.orveshalom.org
SUMMARY:Candle Lighting
DESCRIPTION:
URL:https://www.orveshalom.org/event/candle-lighting-79
END:VEVENT
BEGIN:VEVENT
DTSTART;TZID=America/New_York:20260606T000000
DTEND;TZID=America/New_York:20260606T000000
DTSTAMP:20260424T134329
CREATED:20250418T140720Z
LAST-MODIFIED:20250418T140720Z
UID:10000693-1780704000-1780704000@www.orveshalom.org
SUMMARY:Parshat Beha'alotcha
DESCRIPTION:
URL:https://www.orveshalom.org/event/parshat-behaalotcha-2
END:VEVENT
BEGIN:VEVENT
DTSTART;TZID=America/New_York:20260606T084600
DTEND;TZID=America/New_York:20260606T084600
DTSTAMP:20260424T134329
CREATED:20250418T140607Z
LAST-MODIFIED:20250418T140607Z
UID:10000690-1780735560-1780735560@www.orveshalom.org
SUMMARY:Shacharit
DESCRIPTION:
URL:https://www.orveshalom.org/event/shacharit-62
END:VEVENT
BEGIN:VEVENT
DTSTART;TZID=America/New_York:20260606T123000
DTEND;TZID=America/New_York:20260606T133000
DTSTAMP:20260424T134329
CREATED:20260211T201809Z
LAST-MODIFIED:20260211T201809Z
UID:10002491-1780749000-1780752600@www.orveshalom.org
SUMMARY:Hebrew for Prayer
DESCRIPTION:Learn to read and understand the prayers in our Shabbat morning services. With Education Director\, Chana Mayer immediately following Kiddush each week. \nRSVP requested. \nCLICK HERE TO SIGN UP.
URL:https://www.orveshalom.org/event/hebrewprayer/2026-06-06
ATTACH;FMTTYPE=image/png:https://www.orveshalom.org/wp-content/uploads/2026/02/Hebrew-for-Prayer-on-Shabbat-2.5.26-small.png
END:VEVENT
BEGIN:VEVENT
DTSTART;TZID=America/New_York:20260606T195000
DTEND;TZID=America/New_York:20260606T195000
DTSTAMP:20260424T134329
CREATED:20250418T140719Z
LAST-MODIFIED:20250418T140719Z
UID:10000691-1780775400-1780775400@www.orveshalom.org
SUMMARY:Mincha/Maariv
DESCRIPTION:Shabbat Mincha/Maariv
URL:https://www.orveshalom.org/event/mincha-maariv-62
END:VEVENT
BEGIN:VEVENT
DTSTART;TZID=America/New_York:20260606T212100
DTEND;TZID=America/New_York:20260606T212100
DTSTAMP:20260424T134329
CREATED:20250418T140719Z
LAST-MODIFIED:20250418T140719Z
UID:10000692-1780780860-1780780860@www.orveshalom.org
SUMMARY:Havdalah
DESCRIPTION:
URL:https://www.orveshalom.org/event/havdalah-68
END:VEVENT
BEGIN:VEVENT
DTSTART;TZID=America/New_York:20260609T093000
DTEND;TZID=America/New_York:20260609T093000
DTSTAMP:20260424T134329
CREATED:20250418T140720Z
LAST-MODIFIED:20250418T140720Z
UID:10000694-1780997400-1780997400@www.orveshalom.org
SUMMARY:Bureka Making
DESCRIPTION:Join the OVS Sisterhood for weekly Bureka Making
URL:https://www.orveshalom.org/event/bureka-making-63
END:VEVENT
BEGIN:VEVENT
DTSTART;TZID=America/New_York:20260612T180000
DTEND;TZID=America/New_York:20260612T180000
DTSTAMP:20260424T134329
CREATED:20250418T140720Z
LAST-MODIFIED:20250418T140720Z
UID:10000695-1781287200-1781287200@www.orveshalom.org
SUMMARY:Arvit
DESCRIPTION:Kabbalat Shabbat/Maariv
URL:https://www.orveshalom.org/event/arvit-63
END:VEVENT
BEGIN:VEVENT
DTSTART;TZID=America/New_York:20260612T203000
DTEND;TZID=America/New_York:20260612T203000
DTSTAMP:20260424T134329
CREATED:20250418T140725Z
LAST-MODIFIED:20250418T140725Z
UID:10000696-1781296200-1781296200@www.orveshalom.org
SUMMARY:Candle Lighting
DESCRIPTION:
URL:https://www.orveshalom.org/event/candle-lighting-80
END:VEVENT
END:VCALENDAR