BEGIN:VCALENDAR
VERSION:2.0
PRODID:-//Congregation Or VeShalom - ECPv6.15.17.1//NONSGML v1.0//EN
CALSCALE:GREGORIAN
METHOD:PUBLISH
X-ORIGINAL-URL:https://www.orveshalom.org
X-WR-CALDESC:Events for Congregation Or VeShalom
REFRESH-INTERVAL;VALUE=DURATION:PT1H
X-Robots-Tag:noindex
X-PUBLISHED-TTL:PT1H
BEGIN:VTIMEZONE
TZID:America/New_York
BEGIN:DAYLIGHT
TZOFFSETFROM:-0500
TZOFFSETTO:-0400
TZNAME:EDT
DTSTART:20270314T070000
END:DAYLIGHT
BEGIN:STANDARD
TZOFFSETFROM:-0400
TZOFFSETTO:-0500
TZNAME:EST
DTSTART:20271107T060000
END:STANDARD
BEGIN:DAYLIGHT
TZOFFSETFROM:-0500
TZOFFSETTO:-0400
TZNAME:EDT
DTSTART:20280312T070000
END:DAYLIGHT
BEGIN:STANDARD
TZOFFSETFROM:-0400
TZOFFSETTO:-0500
TZNAME:EST
DTSTART:20281105T060000
END:STANDARD
BEGIN:DAYLIGHT
TZOFFSETFROM:-0500
TZOFFSETTO:-0400
TZNAME:EDT
DTSTART:20290311T070000
END:DAYLIGHT
BEGIN:STANDARD
TZOFFSETFROM:-0400
TZOFFSETTO:-0500
TZNAME:EST
DTSTART:20291104T060000
END:STANDARD
END:VTIMEZONE
BEGIN:VEVENT
DTSTART;TZID=America/New_York:20280428T200100
DTEND;TZID=America/New_York:20280428T200100
DTSTAMP:20260420T084743
CREATED:20250418T162827Z
LAST-MODIFIED:20250418T162827Z
UID:10001673-1840564860-1840564860@www.orveshalom.org
SUMMARY:Candle Lighting
DESCRIPTION:
URL:https://www.orveshalom.org/event/candle-lighting-195
END:VEVENT
BEGIN:VEVENT
DTSTART;TZID=America/New_York:20280429T000000
DTEND;TZID=America/New_York:20280429T000000
DTSTAMP:20260420T084743
CREATED:20250418T162846Z
LAST-MODIFIED:20250418T162846Z
UID:10001678-1840579200-1840579200@www.orveshalom.org
SUMMARY:18th Day Omer
DESCRIPTION:
URL:https://www.orveshalom.org/event/18th-day-omer-4
END:VEVENT
BEGIN:VEVENT
DTSTART;TZID=America/New_York:20280429T000000
DTEND;TZID=America/New_York:20280429T000000
DTSTAMP:20260420T084743
CREATED:20250418T162846Z
LAST-MODIFIED:20250418T162846Z
UID:10001679-1840579200-1840579200@www.orveshalom.org
SUMMARY:Parshat Tazria-Metzora
DESCRIPTION:
URL:https://www.orveshalom.org/event/parshat-tazria-metzora-3
END:VEVENT
BEGIN:VEVENT
DTSTART;TZID=America/New_York:20280429T084600
DTEND;TZID=America/New_York:20280429T084600
DTSTAMP:20260420T084743
CREATED:20250418T162827Z
LAST-MODIFIED:20250418T162827Z
UID:10001675-1840610760-1840610760@www.orveshalom.org
SUMMARY:Shacharit
DESCRIPTION:
URL:https://www.orveshalom.org/event/shacharit-161
END:VEVENT
BEGIN:VEVENT
DTSTART;TZID=America/New_York:20280429T192000
DTEND;TZID=America/New_York:20280429T192000
DTSTAMP:20260420T084743
CREATED:20250418T162827Z
LAST-MODIFIED:20250418T162827Z
UID:10001676-1840648800-1840648800@www.orveshalom.org
SUMMARY:Mincha/Maariv
DESCRIPTION:Shabbat Mincha/Maariv
URL:https://www.orveshalom.org/event/mincha-maariv-161
END:VEVENT
BEGIN:VEVENT
DTSTART;TZID=America/New_York:20280429T205500
DTEND;TZID=America/New_York:20280429T205500
DTSTAMP:20260420T084743
CREATED:20250418T162845Z
LAST-MODIFIED:20250418T162845Z
UID:10001677-1840654500-1840654500@www.orveshalom.org
SUMMARY:Havdalah
DESCRIPTION:
URL:https://www.orveshalom.org/event/havdalah-172
END:VEVENT
BEGIN:VEVENT
DTSTART;TZID=America/New_York:20280430T000000
DTEND;TZID=America/New_York:20280430T000000
DTSTAMP:20260420T084743
CREATED:20250418T162846Z
LAST-MODIFIED:20250418T162846Z
UID:10001680-1840665600-1840665600@www.orveshalom.org
SUMMARY:19th Day Omer
DESCRIPTION:
URL:https://www.orveshalom.org/event/19th-day-omer-4
END:VEVENT
BEGIN:VEVENT
DTSTART;TZID=America/New_York:20280501T000000
DTEND;TZID=America/New_York:20280501T000000
DTSTAMP:20260420T084743
CREATED:20250418T162846Z
LAST-MODIFIED:20250418T162846Z
UID:10001681-1840752000-1840752000@www.orveshalom.org
SUMMARY:Yom Hazikaron
DESCRIPTION:
URL:https://www.orveshalom.org/event/yom-hazikaron-4
END:VEVENT
BEGIN:VEVENT
DTSTART;TZID=America/New_York:20280501T000000
DTEND;TZID=America/New_York:20280501T000000
DTSTAMP:20260420T084743
CREATED:20250418T162856Z
LAST-MODIFIED:20250418T162856Z
UID:10001682-1840752000-1840752000@www.orveshalom.org
SUMMARY:20th Day Omer
DESCRIPTION:
URL:https://www.orveshalom.org/event/20th-day-omer-4
END:VEVENT
BEGIN:VEVENT
DTSTART;TZID=America/New_York:20280502T000000
DTEND;TZID=America/New_York:20280502T000000
DTSTAMP:20260420T084743
CREATED:20250418T162857Z
LAST-MODIFIED:20250418T162857Z
UID:10001684-1840838400-1840838400@www.orveshalom.org
SUMMARY:Yom Ha'Atzmaut
DESCRIPTION:
URL:https://www.orveshalom.org/event/yom-haatzmaut-4
END:VEVENT
BEGIN:VEVENT
DTSTART;TZID=America/New_York:20280502T000000
DTEND;TZID=America/New_York:20280502T000000
DTSTAMP:20260420T084743
CREATED:20250418T162857Z
LAST-MODIFIED:20250418T162857Z
UID:10001685-1840838400-1840838400@www.orveshalom.org
SUMMARY:21st Day Omer
DESCRIPTION:
URL:https://www.orveshalom.org/event/21st-day-omer-4
END:VEVENT
BEGIN:VEVENT
DTSTART;TZID=America/New_York:20280502T093000
DTEND;TZID=America/New_York:20280502T093000
DTSTAMP:20260420T084743
CREATED:20250418T162856Z
LAST-MODIFIED:20250418T162856Z
UID:10001683-1840872600-1840872600@www.orveshalom.org
SUMMARY:Bureka Making
DESCRIPTION:Join the OVS Sisterhood for weekly Bureka Making
URL:https://www.orveshalom.org/event/bureka-making-162
END:VEVENT
BEGIN:VEVENT
DTSTART;TZID=America/New_York:20280503T000000
DTEND;TZID=America/New_York:20280503T000000
DTSTAMP:20260420T084743
CREATED:20250418T162857Z
LAST-MODIFIED:20250418T162857Z
UID:10001686-1840924800-1840924800@www.orveshalom.org
SUMMARY:22nd Day Omer
DESCRIPTION:
URL:https://www.orveshalom.org/event/22nd-day-omer-4
END:VEVENT
BEGIN:VEVENT
DTSTART;TZID=America/New_York:20280504T000000
DTEND;TZID=America/New_York:20280504T000000
DTSTAMP:20260420T084743
CREATED:20250418T162859Z
LAST-MODIFIED:20250418T162859Z
UID:10001687-1841011200-1841011200@www.orveshalom.org
SUMMARY:23rd Day Omer
DESCRIPTION:
URL:https://www.orveshalom.org/event/23rd-day-omer-4
END:VEVENT
BEGIN:VEVENT
DTSTART;TZID=America/New_York:20280505T000000
DTEND;TZID=America/New_York:20280505T000000
DTSTAMP:20260420T084743
CREATED:20250418T162900Z
LAST-MODIFIED:20250418T162900Z
UID:10001690-1841097600-1841097600@www.orveshalom.org
SUMMARY:24th Day Omer
DESCRIPTION:
URL:https://www.orveshalom.org/event/24th-day-omer-4
END:VEVENT
BEGIN:VEVENT
DTSTART;TZID=America/New_York:20280505T180000
DTEND;TZID=America/New_York:20280505T180000
DTSTAMP:20260420T084743
CREATED:20250418T162859Z
LAST-MODIFIED:20250418T162859Z
UID:10001688-1841162400-1841162400@www.orveshalom.org
SUMMARY:Arvit
DESCRIPTION:Kabbalat Shabbat/Maariv
URL:https://www.orveshalom.org/event/arvit-162
END:VEVENT
BEGIN:VEVENT
DTSTART;TZID=America/New_York:20280505T200600
DTEND;TZID=America/New_York:20280505T200600
DTSTAMP:20260420T084743
CREATED:20250418T162859Z
LAST-MODIFIED:20250418T162859Z
UID:10001689-1841169960-1841169960@www.orveshalom.org
SUMMARY:Candle Lighting
DESCRIPTION:
URL:https://www.orveshalom.org/event/candle-lighting-196
END:VEVENT
BEGIN:VEVENT
DTSTART;TZID=America/New_York:20280506T000000
DTEND;TZID=America/New_York:20280506T000000
DTSTAMP:20260420T084743
CREATED:20250418T162946Z
LAST-MODIFIED:20250418T162946Z
UID:10001694-1841184000-1841184000@www.orveshalom.org
SUMMARY:25th Day Omer
DESCRIPTION:
URL:https://www.orveshalom.org/event/25th-day-omer-4
END:VEVENT
BEGIN:VEVENT
DTSTART;TZID=America/New_York:20280506T000000
DTEND;TZID=America/New_York:20280506T000000
DTSTAMP:20260420T084743
CREATED:20250418T162946Z
LAST-MODIFIED:20250418T162946Z
UID:10001695-1841184000-1841184000@www.orveshalom.org
SUMMARY:Parshat Achrei Mot-Kedoshim
DESCRIPTION:
URL:https://www.orveshalom.org/event/parshat-achrei-mot-kedoshim-3
END:VEVENT
BEGIN:VEVENT
DTSTART;TZID=America/New_York:20280506T084600
DTEND;TZID=America/New_York:20280506T084600
DTSTAMP:20260420T084743
CREATED:20250418T162900Z
LAST-MODIFIED:20250418T162900Z
UID:10001691-1841215560-1841215560@www.orveshalom.org
SUMMARY:Shacharit
DESCRIPTION:
URL:https://www.orveshalom.org/event/shacharit-162
END:VEVENT
BEGIN:VEVENT
DTSTART;TZID=America/New_York:20280506T103000
DTEND;TZID=America/New_York:20280506T113000
DTSTAMP:20260420T084743
CREATED:20260415T172650Z
LAST-MODIFIED:20260415T172651Z
UID:10002336-1841221800-1841225400@www.orveshalom.org
SUMMARY:Shabbat Together
DESCRIPTION:Shabbat Together is held on the first Saturday each month\, featuring our Kavanah Minyan and Tot Shabbat & Jr. Congregation. \nThe Kavanah Minyan is an abbreviated\, informal service\, led by Rabbi Hearshen with easy to learn prayers and inspirational teachings in the Maslia Chapel.\nTot Shabbat & Jr. Congregation are informal\, interactive services for children of all ages held in the Preschool Wing.
URL:https://www.orveshalom.org/event/shabbat-together-2-2-2/2028-05-06
LOCATION:Congregation Or VeShalom
ATTACH;FMTTYPE=image/png:https://www.orveshalom.org/wp-content/uploads/2025/09/Shabbat-Together-Social-Media-NEW-9.29.25-small.png
END:VEVENT
BEGIN:VEVENT
DTSTART;TZID=America/New_York:20280506T193000
DTEND;TZID=America/New_York:20280506T193000
DTSTAMP:20260420T084743
CREATED:20250418T162945Z
LAST-MODIFIED:20250418T162945Z
UID:10001692-1841254200-1841254200@www.orveshalom.org
SUMMARY:Mincha/Maariv
DESCRIPTION:Shabbat Mincha/Maariv
URL:https://www.orveshalom.org/event/mincha-maariv-162
END:VEVENT
BEGIN:VEVENT
DTSTART;TZID=America/New_York:20280506T210100
DTEND;TZID=America/New_York:20280506T210100
DTSTAMP:20260420T084743
CREATED:20250418T162946Z
LAST-MODIFIED:20250418T162946Z
UID:10001693-1841259660-1841259660@www.orveshalom.org
SUMMARY:Havdalah
DESCRIPTION:
URL:https://www.orveshalom.org/event/havdalah-173
END:VEVENT
BEGIN:VEVENT
DTSTART;TZID=America/New_York:20280507T000000
DTEND;TZID=America/New_York:20280507T000000
DTSTAMP:20260420T084743
CREATED:20250418T162946Z
LAST-MODIFIED:20250418T162946Z
UID:10001696-1841270400-1841270400@www.orveshalom.org
SUMMARY:26th Day Omer
DESCRIPTION:
URL:https://www.orveshalom.org/event/26th-day-omer-4
END:VEVENT
BEGIN:VEVENT
DTSTART;TZID=America/New_York:20280508T000000
DTEND;TZID=America/New_York:20280508T000000
DTSTAMP:20260420T084743
CREATED:20250418T162959Z
LAST-MODIFIED:20250418T162959Z
UID:10001697-1841356800-1841356800@www.orveshalom.org
SUMMARY:27th Day Omer
DESCRIPTION:
URL:https://www.orveshalom.org/event/27th-day-omer-4
END:VEVENT
BEGIN:VEVENT
DTSTART;TZID=America/New_York:20280509T000000
DTEND;TZID=America/New_York:20280509T000000
DTSTAMP:20260420T084743
CREATED:20250418T163000Z
LAST-MODIFIED:20250418T163000Z
UID:10001699-1841443200-1841443200@www.orveshalom.org
SUMMARY:28th Day Omer
DESCRIPTION:
URL:https://www.orveshalom.org/event/28th-day-omer-4
END:VEVENT
BEGIN:VEVENT
DTSTART;TZID=America/New_York:20280509T093000
DTEND;TZID=America/New_York:20280509T093000
DTSTAMP:20260420T084743
CREATED:20250418T163000Z
LAST-MODIFIED:20250418T163000Z
UID:10001698-1841477400-1841477400@www.orveshalom.org
SUMMARY:Bureka Making
DESCRIPTION:Join the OVS Sisterhood for weekly Bureka Making
URL:https://www.orveshalom.org/event/bureka-making-163
END:VEVENT
BEGIN:VEVENT
DTSTART;TZID=America/New_York:20280510T000000
DTEND;TZID=America/New_York:20280510T000000
DTSTAMP:20260420T084743
CREATED:20250418T163000Z
LAST-MODIFIED:20250418T163000Z
UID:10001700-1841529600-1841529600@www.orveshalom.org
SUMMARY:Pesach Sheni
DESCRIPTION:
URL:https://www.orveshalom.org/event/pesach-sheni-4
END:VEVENT
BEGIN:VEVENT
DTSTART;TZID=America/New_York:20280510T000000
DTEND;TZID=America/New_York:20280510T000000
DTSTAMP:20260420T084743
CREATED:20250418T163000Z
LAST-MODIFIED:20250418T163000Z
UID:10001701-1841529600-1841529600@www.orveshalom.org
SUMMARY:29th Day Omer
DESCRIPTION:
URL:https://www.orveshalom.org/event/29th-day-omer-4
END:VEVENT
BEGIN:VEVENT
DTSTART;TZID=America/New_York:20280511T000000
DTEND;TZID=America/New_York:20280511T000000
DTSTAMP:20260420T084743
CREATED:20250418T163059Z
LAST-MODIFIED:20250418T163059Z
UID:10001702-1841616000-1841616000@www.orveshalom.org
SUMMARY:30th Day Omer
DESCRIPTION:
URL:https://www.orveshalom.org/event/30th-day-omer-4
END:VEVENT
END:VCALENDAR