BEGIN:VCALENDAR
VERSION:2.0
PRODID:-//Congregation Or VeShalom - ECPv6.15.17.1//NONSGML v1.0//EN
CALSCALE:GREGORIAN
METHOD:PUBLISH
X-WR-CALNAME:Congregation Or VeShalom
X-ORIGINAL-URL:https://www.orveshalom.org
X-WR-CALDESC:Events for Congregation Or VeShalom
REFRESH-INTERVAL;VALUE=DURATION:PT1H
X-Robots-Tag:noindex
X-PUBLISHED-TTL:PT1H
BEGIN:VTIMEZONE
TZID:America/New_York
BEGIN:DAYLIGHT
TZOFFSETFROM:-0500
TZOFFSETTO:-0400
TZNAME:EDT
DTSTART:20270314T070000
END:DAYLIGHT
BEGIN:STANDARD
TZOFFSETFROM:-0400
TZOFFSETTO:-0500
TZNAME:EST
DTSTART:20271107T060000
END:STANDARD
BEGIN:DAYLIGHT
TZOFFSETFROM:-0500
TZOFFSETTO:-0400
TZNAME:EDT
DTSTART:20280312T070000
END:DAYLIGHT
BEGIN:STANDARD
TZOFFSETFROM:-0400
TZOFFSETTO:-0500
TZNAME:EST
DTSTART:20281105T060000
END:STANDARD
BEGIN:DAYLIGHT
TZOFFSETFROM:-0500
TZOFFSETTO:-0400
TZNAME:EDT
DTSTART:20290311T070000
END:DAYLIGHT
BEGIN:STANDARD
TZOFFSETFROM:-0400
TZOFFSETTO:-0500
TZNAME:EST
DTSTART:20291104T060000
END:STANDARD
END:VTIMEZONE
BEGIN:VEVENT
DTSTART;TZID=America/New_York:20280524T000000
DTEND;TZID=America/New_York:20280524T000000
DTSTAMP:20260424T233746
CREATED:20250418T163500Z
LAST-MODIFIED:20250418T163500Z
UID:10001733-1842739200-1842739200@www.orveshalom.org
SUMMARY:43rd Day Omer
DESCRIPTION:
URL:https://www.orveshalom.org/event/43rd-day-omer-4
END:VEVENT
BEGIN:VEVENT
DTSTART;TZID=America/New_York:20280525T000000
DTEND;TZID=America/New_York:20280525T000000
DTSTAMP:20260424T233746
CREATED:20250418T163500Z
LAST-MODIFIED:20250418T163500Z
UID:10001734-1842825600-1842825600@www.orveshalom.org
SUMMARY:44th Day Omer
DESCRIPTION:
URL:https://www.orveshalom.org/event/44th-day-omer-4
END:VEVENT
BEGIN:VEVENT
DTSTART;TZID=America/New_York:20280526T000000
DTEND;TZID=America/New_York:20280526T000000
DTSTAMP:20260424T233746
CREATED:20250418T163546Z
LAST-MODIFIED:20250418T163546Z
UID:10001737-1842912000-1842912000@www.orveshalom.org
SUMMARY:Rosh Chodesh Sivan
DESCRIPTION:
URL:https://www.orveshalom.org/event/rosh-chodesh-sivan-4
END:VEVENT
BEGIN:VEVENT
DTSTART;TZID=America/New_York:20280526T000000
DTEND;TZID=America/New_York:20280526T000000
DTSTAMP:20260424T233746
CREATED:20250418T163546Z
LAST-MODIFIED:20250418T163546Z
UID:10001738-1842912000-1842912000@www.orveshalom.org
SUMMARY:45th Day Omer
DESCRIPTION:
URL:https://www.orveshalom.org/event/45th-day-omer-4
END:VEVENT
BEGIN:VEVENT
DTSTART;TZID=America/New_York:20280526T180000
DTEND;TZID=America/New_York:20280526T180000
DTSTAMP:20260424T233746
CREATED:20250418T163500Z
LAST-MODIFIED:20250418T163500Z
UID:10001735-1842976800-1842976800@www.orveshalom.org
SUMMARY:Arvit
DESCRIPTION:Kabbalat Shabbat/Maariv
URL:https://www.orveshalom.org/event/arvit-165
END:VEVENT
BEGIN:VEVENT
DTSTART;TZID=America/New_York:20280526T202100
DTEND;TZID=America/New_York:20280526T202100
DTSTAMP:20260424T233746
CREATED:20250418T163501Z
LAST-MODIFIED:20250418T163501Z
UID:10001736-1842985260-1842985260@www.orveshalom.org
SUMMARY:Candle Lighting
DESCRIPTION:
URL:https://www.orveshalom.org/event/candle-lighting-199
END:VEVENT
BEGIN:VEVENT
DTSTART;TZID=America/New_York:20280527T000000
DTEND;TZID=America/New_York:20280527T000000
DTSTAMP:20260424T233746
CREATED:20250418T163556Z
LAST-MODIFIED:20250418T163556Z
UID:10001742-1842998400-1842998400@www.orveshalom.org
SUMMARY:46th Day Omer
DESCRIPTION:
URL:https://www.orveshalom.org/event/46th-day-omer-4
END:VEVENT
BEGIN:VEVENT
DTSTART;TZID=America/New_York:20280527T000000
DTEND;TZID=America/New_York:20280527T000000
DTSTAMP:20260424T233746
CREATED:20250418T163556Z
LAST-MODIFIED:20250418T163556Z
UID:10001743-1842998400-1842998400@www.orveshalom.org
SUMMARY:Parshat Bamidbar
DESCRIPTION:
URL:https://www.orveshalom.org/event/parshat-bamidbar-4
END:VEVENT
BEGIN:VEVENT
DTSTART;TZID=America/New_York:20280527T084600
DTEND;TZID=America/New_York:20280527T084600
DTSTAMP:20260424T233746
CREATED:20250418T163546Z
LAST-MODIFIED:20250418T163546Z
UID:10001739-1843029960-1843029960@www.orveshalom.org
SUMMARY:Shacharit
DESCRIPTION:
URL:https://www.orveshalom.org/event/shacharit-165
END:VEVENT
BEGIN:VEVENT
DTSTART;TZID=America/New_York:20280527T194000
DTEND;TZID=America/New_York:20280527T194000
DTSTAMP:20260424T233746
CREATED:20250418T163547Z
LAST-MODIFIED:20250418T163547Z
UID:10001740-1843069200-1843069200@www.orveshalom.org
SUMMARY:Mincha/Maariv
DESCRIPTION:Shabbat Mincha/Maariv
URL:https://www.orveshalom.org/event/mincha-maariv-165
END:VEVENT
BEGIN:VEVENT
DTSTART;TZID=America/New_York:20280527T211600
DTEND;TZID=America/New_York:20280527T211600
DTSTAMP:20260424T233746
CREATED:20250418T163547Z
LAST-MODIFIED:20250418T163547Z
UID:10001741-1843074960-1843074960@www.orveshalom.org
SUMMARY:Havdalah
DESCRIPTION:
URL:https://www.orveshalom.org/event/havdalah-176
END:VEVENT
BEGIN:VEVENT
DTSTART;TZID=America/New_York:20280528T000000
DTEND;TZID=America/New_York:20280528T000000
DTSTAMP:20260424T233746
CREATED:20250418T163556Z
LAST-MODIFIED:20250418T163556Z
UID:10001744-1843084800-1843084800@www.orveshalom.org
SUMMARY:47th Day Omer
DESCRIPTION:
URL:https://www.orveshalom.org/event/47th-day-omer-4
END:VEVENT
BEGIN:VEVENT
DTSTART;TZID=America/New_York:20280529T000000
DTEND;TZID=America/New_York:20280529T000000
DTSTAMP:20260424T233746
CREATED:20250418T163556Z
LAST-MODIFIED:20250418T163556Z
UID:10001745-1843171200-1843171200@www.orveshalom.org
SUMMARY:Memorial Day
DESCRIPTION:
URL:https://www.orveshalom.org/event/memorial-day-4
END:VEVENT
BEGIN:VEVENT
DTSTART;TZID=America/New_York:20280529T000000
DTEND;TZID=America/New_York:20280529T000000
DTSTAMP:20260424T233746
CREATED:20250418T163557Z
LAST-MODIFIED:20250418T163557Z
UID:10001746-1843171200-1843171200@www.orveshalom.org
SUMMARY:48th Day Omer
DESCRIPTION:
URL:https://www.orveshalom.org/event/48th-day-omer-4
END:VEVENT
BEGIN:VEVENT
DTSTART;TZID=America/New_York:20280530T000000
DTEND;TZID=America/New_York:20280530T000000
DTSTAMP:20260424T233746
CREATED:20250418T163559Z
LAST-MODIFIED:20250418T163559Z
UID:10001749-1843257600-1843257600@www.orveshalom.org
SUMMARY:Erev Shavuot
DESCRIPTION:
URL:https://www.orveshalom.org/event/erev-shavuot-4
END:VEVENT
BEGIN:VEVENT
DTSTART;TZID=America/New_York:20280530T000000
DTEND;TZID=America/New_York:20280530T000000
DTSTAMP:20260424T233746
CREATED:20250418T163559Z
LAST-MODIFIED:20250418T163559Z
UID:10001750-1843257600-1843257600@www.orveshalom.org
SUMMARY:49th Day Omer
DESCRIPTION:
URL:https://www.orveshalom.org/event/49th-day-omer-4
END:VEVENT
BEGIN:VEVENT
DTSTART;TZID=America/New_York:20280530T093000
DTEND;TZID=America/New_York:20280530T093000
DTSTAMP:20260424T233746
CREATED:20250418T163559Z
LAST-MODIFIED:20250418T163559Z
UID:10001747-1843291800-1843291800@www.orveshalom.org
SUMMARY:Bureka Making
DESCRIPTION:Join the OVS Sisterhood for weekly Bureka Making
URL:https://www.orveshalom.org/event/bureka-making-166
END:VEVENT
BEGIN:VEVENT
DTSTART;TZID=America/New_York:20280530T202400
DTEND;TZID=America/New_York:20280530T202400
DTSTAMP:20260424T233746
CREATED:20250418T163559Z
LAST-MODIFIED:20250418T163559Z
UID:10001748-1843331040-1843331040@www.orveshalom.org
SUMMARY:Candle Lighting
DESCRIPTION:
URL:https://www.orveshalom.org/event/candle-lighting-200
END:VEVENT
BEGIN:VEVENT
DTSTART;TZID=America/New_York:20280531T000000
DTEND;TZID=America/New_York:20280531T000000
DTSTAMP:20260424T233746
CREATED:20250418T163649Z
LAST-MODIFIED:20250418T163649Z
UID:10001752-1843344000-1843344000@www.orveshalom.org
SUMMARY:Shavuot - 1st Day
DESCRIPTION:
URL:https://www.orveshalom.org/event/shavuot-1st-day-4
END:VEVENT
BEGIN:VEVENT
DTSTART;TZID=America/New_York:20280531T211800
DTEND;TZID=America/New_York:20280531T211800
DTSTAMP:20260424T233746
CREATED:20250418T163559Z
LAST-MODIFIED:20250418T163559Z
UID:10001751-1843420680-1843420680@www.orveshalom.org
SUMMARY:Candle Lighting
DESCRIPTION:
URL:https://www.orveshalom.org/event/candle-lighting-201
END:VEVENT
BEGIN:VEVENT
DTSTART;TZID=America/New_York:20280601T000000
DTEND;TZID=America/New_York:20280601T000000
DTSTAMP:20260424T233746
CREATED:20250418T163650Z
LAST-MODIFIED:20250418T163650Z
UID:10001754-1843430400-1843430400@www.orveshalom.org
SUMMARY:Shavuot
DESCRIPTION:
URL:https://www.orveshalom.org/event/shavuot-4
END:VEVENT
BEGIN:VEVENT
DTSTART;TZID=America/New_York:20280601T000000
DTEND;TZID=America/New_York:20280601T000000
DTSTAMP:20260424T233746
CREATED:20250418T163650Z
LAST-MODIFIED:20250418T163650Z
UID:10001755-1843430400-1843430400@www.orveshalom.org
SUMMARY:Yizkor
DESCRIPTION:
URL:https://www.orveshalom.org/event/yizkor-14
END:VEVENT
BEGIN:VEVENT
DTSTART;TZID=America/New_York:20280601T211900
DTEND;TZID=America/New_York:20280601T211900
DTSTAMP:20260424T233746
CREATED:20250418T163650Z
LAST-MODIFIED:20250418T163650Z
UID:10001753-1843507140-1843507140@www.orveshalom.org
SUMMARY:Havdalah
DESCRIPTION:
URL:https://www.orveshalom.org/event/havdalah-177
END:VEVENT
BEGIN:VEVENT
DTSTART;TZID=America/New_York:20280602T180000
DTEND;TZID=America/New_York:20280602T180000
DTSTAMP:20260424T233746
CREATED:20250418T163650Z
LAST-MODIFIED:20250418T163650Z
UID:10001756-1843581600-1843581600@www.orveshalom.org
SUMMARY:Arvit
DESCRIPTION:Kabbalat Shabbat/Maariv
URL:https://www.orveshalom.org/event/arvit-166
END:VEVENT
BEGIN:VEVENT
DTSTART;TZID=America/New_York:20280602T202600
DTEND;TZID=America/New_York:20280602T202600
DTSTAMP:20260424T233746
CREATED:20250418T163659Z
LAST-MODIFIED:20250418T163659Z
UID:10001757-1843590360-1843590360@www.orveshalom.org
SUMMARY:Candle Lighting
DESCRIPTION:
URL:https://www.orveshalom.org/event/candle-lighting-202
END:VEVENT
BEGIN:VEVENT
DTSTART;TZID=America/New_York:20280603T000000
DTEND;TZID=America/New_York:20280603T000000
DTSTAMP:20260424T233746
CREATED:20250418T163700Z
LAST-MODIFIED:20250418T163700Z
UID:10001761-1843603200-1843603200@www.orveshalom.org
SUMMARY:Parshat Nasso
DESCRIPTION:
URL:https://www.orveshalom.org/event/parshat-nasso-4
END:VEVENT
BEGIN:VEVENT
DTSTART;TZID=America/New_York:20280603T084600
DTEND;TZID=America/New_York:20280603T084600
DTSTAMP:20260424T233746
CREATED:20250418T163700Z
LAST-MODIFIED:20250418T163700Z
UID:10001758-1843634760-1843634760@www.orveshalom.org
SUMMARY:Shacharit
DESCRIPTION:
URL:https://www.orveshalom.org/event/shacharit-166
END:VEVENT
BEGIN:VEVENT
DTSTART;TZID=America/New_York:20280603T103000
DTEND;TZID=America/New_York:20280603T113000
DTSTAMP:20260424T233746
CREATED:20260415T172650Z
LAST-MODIFIED:20260415T172651Z
UID:10002337-1843641000-1843644600@www.orveshalom.org
SUMMARY:Shabbat Together
DESCRIPTION:Shabbat Together is held on the first Saturday each month\, featuring our Kavanah Minyan and Tot Shabbat & Jr. Congregation. \nThe Kavanah Minyan is an abbreviated\, informal service\, led by Rabbi Hearshen with easy to learn prayers and inspirational teachings in the Maslia Chapel.\nTot Shabbat & Jr. Congregation are informal\, interactive services for children of all ages held in the Preschool Wing.
URL:https://www.orveshalom.org/event/shabbat-together-2-2-2/2028-06-03
LOCATION:Congregation Or VeShalom
ATTACH;FMTTYPE=image/png:https://www.orveshalom.org/wp-content/uploads/2025/09/Shabbat-Together-Social-Media-NEW-9.29.25-small.png
END:VEVENT
BEGIN:VEVENT
DTSTART;TZID=America/New_York:20280603T194000
DTEND;TZID=America/New_York:20280603T194000
DTSTAMP:20260424T233746
CREATED:20250418T163700Z
LAST-MODIFIED:20250418T163700Z
UID:10001759-1843674000-1843674000@www.orveshalom.org
SUMMARY:Mincha/Maariv
DESCRIPTION:Shabbat Mincha/Maariv
URL:https://www.orveshalom.org/event/mincha-maariv-166
END:VEVENT
BEGIN:VEVENT
DTSTART;TZID=America/New_York:20280603T212000
DTEND;TZID=America/New_York:20280603T212000
DTSTAMP:20260424T233746
CREATED:20250418T163700Z
LAST-MODIFIED:20250418T163700Z
UID:10001760-1843680000-1843680000@www.orveshalom.org
SUMMARY:Havdalah
DESCRIPTION:
URL:https://www.orveshalom.org/event/havdalah-178
END:VEVENT
END:VCALENDAR