BEGIN:VCALENDAR
VERSION:2.0
PRODID:-//Congregation Or VeShalom - ECPv6.15.17.1//NONSGML v1.0//EN
CALSCALE:GREGORIAN
METHOD:PUBLISH
X-WR-CALNAME:Congregation Or VeShalom
X-ORIGINAL-URL:https://www.orveshalom.org
X-WR-CALDESC:Events for Congregation Or VeShalom
REFRESH-INTERVAL;VALUE=DURATION:PT1H
X-Robots-Tag:noindex
X-PUBLISHED-TTL:PT1H
BEGIN:VTIMEZONE
TZID:America/New_York
BEGIN:DAYLIGHT
TZOFFSETFROM:-0500
TZOFFSETTO:-0400
TZNAME:EDT
DTSTART:20250309T070000
END:DAYLIGHT
BEGIN:STANDARD
TZOFFSETFROM:-0400
TZOFFSETTO:-0500
TZNAME:EST
DTSTART:20251102T060000
END:STANDARD
BEGIN:DAYLIGHT
TZOFFSETFROM:-0500
TZOFFSETTO:-0400
TZNAME:EDT
DTSTART:20260308T070000
END:DAYLIGHT
BEGIN:STANDARD
TZOFFSETFROM:-0400
TZOFFSETTO:-0500
TZNAME:EST
DTSTART:20261101T060000
END:STANDARD
BEGIN:DAYLIGHT
TZOFFSETFROM:-0500
TZOFFSETTO:-0400
TZNAME:EDT
DTSTART:20270314T070000
END:DAYLIGHT
BEGIN:STANDARD
TZOFFSETFROM:-0400
TZOFFSETTO:-0500
TZNAME:EST
DTSTART:20271107T060000
END:STANDARD
END:VTIMEZONE
BEGIN:VEVENT
DTSTART;TZID=America/New_York:20260210T093000
DTEND;TZID=America/New_York:20260210T093000
DTSTAMP:20260422T042017
CREATED:20250418T140028Z
LAST-MODIFIED:20250418T140028Z
UID:10000479-1770715800-1770715800@www.orveshalom.org
SUMMARY:Bureka Making
DESCRIPTION:Join the OVS Sisterhood for weekly Bureka Making
URL:https://www.orveshalom.org/event/bureka-making-46
END:VEVENT
BEGIN:VEVENT
DTSTART;TZID=America/New_York:20260213T180000
DTEND;TZID=America/New_York:20260213T180000
DTSTAMP:20260422T042017
CREATED:20250418T140029Z
LAST-MODIFIED:20250418T140029Z
UID:10000480-1771005600-1771005600@www.orveshalom.org
SUMMARY:Arvit
DESCRIPTION:Kabbalat Shabbat/Maariv
URL:https://www.orveshalom.org/event/arvit-46
END:VEVENT
BEGIN:VEVENT
DTSTART;TZID=America/New_York:20260213T180100
DTEND;TZID=America/New_York:20260213T180100
DTSTAMP:20260422T042017
CREATED:20250418T140032Z
LAST-MODIFIED:20250418T140032Z
UID:10000481-1771005660-1771005660@www.orveshalom.org
SUMMARY:Candle Lighting
DESCRIPTION:
URL:https://www.orveshalom.org/event/candle-lighting-58
END:VEVENT
BEGIN:VEVENT
DTSTART;TZID=America/New_York:20260214T000000
DTEND;TZID=America/New_York:20260214T000000
DTSTAMP:20260422T042017
CREATED:20250418T140033Z
LAST-MODIFIED:20250418T140033Z
UID:10000485-1771027200-1771027200@www.orveshalom.org
SUMMARY:Shabbat Mevarchim
DESCRIPTION:
URL:https://www.orveshalom.org/event/shabbat-mevarchim-10
END:VEVENT
BEGIN:VEVENT
DTSTART;TZID=America/New_York:20260214T000000
DTEND;TZID=America/New_York:20260214T000000
DTSTAMP:20260422T042017
CREATED:20250418T140035Z
LAST-MODIFIED:20250418T140035Z
UID:10000486-1771027200-1771027200@www.orveshalom.org
SUMMARY:Parshat Shekalim
DESCRIPTION:
URL:https://www.orveshalom.org/event/parshat-shekalim
END:VEVENT
BEGIN:VEVENT
DTSTART;TZID=America/New_York:20260214T000000
DTEND;TZID=America/New_York:20260214T000000
DTSTAMP:20260422T042017
CREATED:20250418T140035Z
LAST-MODIFIED:20250418T140035Z
UID:10000487-1771027200-1771027200@www.orveshalom.org
SUMMARY:Parshat Mishpatim
DESCRIPTION:
URL:https://www.orveshalom.org/event/parshat-mishpatim
END:VEVENT
BEGIN:VEVENT
DTSTART;TZID=America/New_York:20260214T084600
DTEND;TZID=America/New_York:20260214T084600
DTSTAMP:20260422T042017
CREATED:20250418T140032Z
LAST-MODIFIED:20250418T140032Z
UID:10000482-1771058760-1771058760@www.orveshalom.org
SUMMARY:Shacharit
DESCRIPTION:
URL:https://www.orveshalom.org/event/shacharit-46
END:VEVENT
BEGIN:VEVENT
DTSTART;TZID=America/New_York:20260214T123000
DTEND;TZID=America/New_York:20260214T133000
DTSTAMP:20260422T042017
CREATED:20260211T201809Z
LAST-MODIFIED:20260211T201809Z
UID:10002475-1771072200-1771075800@www.orveshalom.org
SUMMARY:Hebrew for Prayer
DESCRIPTION:Learn to read and understand the prayers in our Shabbat morning services. With Education Director\, Chana Mayer immediately following Kiddush each week. \nRSVP requested. \nCLICK HERE TO SIGN UP.
URL:https://www.orveshalom.org/event/hebrewprayer/2026-02-14
ATTACH;FMTTYPE=image/png:https://www.orveshalom.org/wp-content/uploads/2026/02/Hebrew-for-Prayer-on-Shabbat-2.5.26-small.png
END:VEVENT
BEGIN:VEVENT
DTSTART;TZID=America/New_York:20260214T172000
DTEND;TZID=America/New_York:20260214T172000
DTSTAMP:20260422T042017
CREATED:20250418T140033Z
LAST-MODIFIED:20250418T140033Z
UID:10000483-1771089600-1771089600@www.orveshalom.org
SUMMARY:Mincha/Maariv
DESCRIPTION:Shabbat Mincha/Maariv
URL:https://www.orveshalom.org/event/mincha-maariv-46
END:VEVENT
BEGIN:VEVENT
DTSTART;TZID=America/New_York:20260214T185600
DTEND;TZID=America/New_York:20260214T185600
DTSTAMP:20260422T042017
CREATED:20250418T140033Z
LAST-MODIFIED:20250418T140033Z
UID:10000484-1771095360-1771095360@www.orveshalom.org
SUMMARY:Havdalah
DESCRIPTION:
URL:https://www.orveshalom.org/event/havdalah-51
END:VEVENT
BEGIN:VEVENT
DTSTART;TZID=America/New_York:20260216T000000
DTEND;TZID=America/New_York:20260216T000000
DTSTAMP:20260422T042017
CREATED:20250418T140035Z
LAST-MODIFIED:20250418T140035Z
UID:10000488-1771200000-1771200000@www.orveshalom.org
SUMMARY:Presidents' Day
DESCRIPTION:
URL:https://www.orveshalom.org/event/presidents-day
END:VEVENT
BEGIN:VEVENT
DTSTART;TZID=America/New_York:20260216T190000
DTEND;TZID=America/New_York:20260216T200000
DTSTAMP:20260422T042017
CREATED:20260209T170143Z
LAST-MODIFIED:20260323T155608Z
UID:10002403-1771268400-1771272000@www.orveshalom.org
SUMMARY:Hebrew for Adults - Continued
DESCRIPTION:Class for the remainder of the year will be held on Zoom.  \n$36 per member\, $54 per non-member \nLearn to read Hebrew with Education Director\, Chana Mayer. New students will be considered on a case by case basis based on reading level. \nCLICK HERE TO SIGN UP.  Zoom link will be sent upon registration.
URL:https://www.orveshalom.org/event/adulthebrewcontinued/2026-02-16
ATTACH;FMTTYPE=image/png:https://www.orveshalom.org/wp-content/uploads/2026/02/Adult-Hebrew-1-Continued-Postcard-2.9.26-small-NEW.png
END:VEVENT
BEGIN:VEVENT
DTSTART;TZID=America/New_York:20260217T000000
DTEND;TZID=America/New_York:20260217T000000
DTSTAMP:20260422T042017
CREATED:20250418T140036Z
LAST-MODIFIED:20250418T140036Z
UID:10000490-1771286400-1771286400@www.orveshalom.org
SUMMARY:Rosh Chodesh Adar
DESCRIPTION:
URL:https://www.orveshalom.org/event/rosh-chodesh-adar
END:VEVENT
BEGIN:VEVENT
DTSTART;TZID=America/New_York:20260217T093000
DTEND;TZID=America/New_York:20260217T093000
DTSTAMP:20260422T042017
CREATED:20250418T140035Z
LAST-MODIFIED:20250418T140035Z
UID:10000489-1771320600-1771320600@www.orveshalom.org
SUMMARY:Bureka Making
DESCRIPTION:Join the OVS Sisterhood for weekly Bureka Making
URL:https://www.orveshalom.org/event/bureka-making-47
END:VEVENT
BEGIN:VEVENT
DTSTART;TZID=America/New_York:20260218T000000
DTEND;TZID=America/New_York:20260218T000000
DTSTAMP:20260422T042017
CREATED:20250418T140038Z
LAST-MODIFIED:20250418T140038Z
UID:10000491-1771372800-1771372800@www.orveshalom.org
SUMMARY:Rosh Chodesh Adar
DESCRIPTION:
URL:https://www.orveshalom.org/event/rosh-chodesh-adar-2
END:VEVENT
BEGIN:VEVENT
DTSTART;TZID=America/New_York:20260220T180000
DTEND;TZID=America/New_York:20260220T180000
DTSTAMP:20260422T042017
CREATED:20250418T140038Z
LAST-MODIFIED:20250418T140038Z
UID:10000492-1771610400-1771610400@www.orveshalom.org
SUMMARY:Arvit
DESCRIPTION:Kabbalat Shabbat/Maariv
URL:https://www.orveshalom.org/event/arvit-47
END:VEVENT
BEGIN:VEVENT
DTSTART;TZID=America/New_York:20260220T180700
DTEND;TZID=America/New_York:20260220T180700
DTSTAMP:20260422T042017
CREATED:20250418T140038Z
LAST-MODIFIED:20250418T140038Z
UID:10000493-1771610820-1771610820@www.orveshalom.org
SUMMARY:Candle Lighting
DESCRIPTION:
URL:https://www.orveshalom.org/event/candle-lighting-59
END:VEVENT
BEGIN:VEVENT
DTSTART;TZID=America/New_York:20260221T000000
DTEND;TZID=America/New_York:20260221T000000
DTSTAMP:20260422T042017
CREATED:20250418T140040Z
LAST-MODIFIED:20250418T140040Z
UID:10000497-1771632000-1771632000@www.orveshalom.org
SUMMARY:Parshat Terumah
DESCRIPTION:
URL:https://www.orveshalom.org/event/parshat-terumah
END:VEVENT
BEGIN:VEVENT
DTSTART;TZID=America/New_York:20260221T084600
DTEND;TZID=America/New_York:20260221T084600
DTSTAMP:20260422T042017
CREATED:20250418T140038Z
LAST-MODIFIED:20250418T140038Z
UID:10000494-1771663560-1771663560@www.orveshalom.org
SUMMARY:Shacharit
DESCRIPTION:
URL:https://www.orveshalom.org/event/shacharit-47
END:VEVENT
BEGIN:VEVENT
DTSTART;TZID=America/New_York:20260221T123000
DTEND;TZID=America/New_York:20260221T133000
DTSTAMP:20260422T042017
CREATED:20260211T201809Z
LAST-MODIFIED:20260211T201809Z
UID:10002476-1771677000-1771680600@www.orveshalom.org
SUMMARY:Hebrew for Prayer
DESCRIPTION:Learn to read and understand the prayers in our Shabbat morning services. With Education Director\, Chana Mayer immediately following Kiddush each week. \nRSVP requested. \nCLICK HERE TO SIGN UP.
URL:https://www.orveshalom.org/event/hebrewprayer/2026-02-21
ATTACH;FMTTYPE=image/png:https://www.orveshalom.org/wp-content/uploads/2026/02/Hebrew-for-Prayer-on-Shabbat-2.5.26-small.png
END:VEVENT
BEGIN:VEVENT
DTSTART;TZID=America/New_York:20260221T173000
DTEND;TZID=America/New_York:20260221T173000
DTSTAMP:20260422T042017
CREATED:20250418T140038Z
LAST-MODIFIED:20250418T140038Z
UID:10000495-1771695000-1771695000@www.orveshalom.org
SUMMARY:Mincha/Maariv
DESCRIPTION:Shabbat Mincha/Maariv
URL:https://www.orveshalom.org/event/mincha-maariv-47
END:VEVENT
BEGIN:VEVENT
DTSTART;TZID=America/New_York:20260221T190200
DTEND;TZID=America/New_York:20260221T190200
DTSTAMP:20260422T042017
CREATED:20250418T140040Z
LAST-MODIFIED:20250418T140040Z
UID:10000496-1771700520-1771700520@www.orveshalom.org
SUMMARY:Havdalah
DESCRIPTION:
URL:https://www.orveshalom.org/event/havdalah-52
END:VEVENT
BEGIN:VEVENT
DTSTART;TZID=America/New_York:20260222T090000
DTEND;TZID=America/New_York:20260222T120000
DTSTAMP:20260422T042017
CREATED:20250417T211618Z
LAST-MODIFIED:20250507T153601Z
UID:10002237-1771750800-1771761600@www.orveshalom.org
SUMMARY:Building Blocks Sunday School
DESCRIPTION:Building Blocks Sunday School at Congregation Or VeShalom is for children ages 2 – 12. Areas of focus include prayer\, Jewish holidays\, Jewish values\, modern Hebrew\, Hebrew reading\, Israel\, and Sephardic Jewish culture.
URL:https://www.orveshalom.org/event/building-blocks-sunday-school-2025-2026/2026-02-22
ATTACH;FMTTYPE=image/png:https://www.orveshalom.org/wp-content/uploads/2025/04/Building-Blocks-Postcard-2025-2026-5.2.25-small.png
END:VEVENT
BEGIN:VEVENT
DTSTART;TZID=America/New_York:20260222T103000
DTEND;TZID=America/New_York:20260222T113000
DTSTAMP:20260422T042017
CREATED:20250619T195112Z
LAST-MODIFIED:20250619T195112Z
UID:10002295-1771756200-1771759800@www.orveshalom.org
SUMMARY:B'nai Mitzvah Club
DESCRIPTION:The B’nai Mitzvah Club supports pre-teens on their journey toward becoming B’nai Mitzvah at OVS. This program combines meaningful Jewish learning with social connection and hands-on projects. Students explore Jewish identity\, values\, and traditions while engaging in activities that prepare them for this important milestone—through discussions\, creative projects\, and community-building experiences.
URL:https://www.orveshalom.org/event/bnai-mitzvah-club/2026-02-22
LOCATION:Congregation Or VeShalom
ORGANIZER;CN="Chana Mayer":MAILTO:buildingblocks@orveshalom.org
END:VEVENT
BEGIN:VEVENT
DTSTART;TZID=America/New_York:20260223T190000
DTEND;TZID=America/New_York:20260223T200000
DTSTAMP:20260422T042017
CREATED:20260209T170143Z
LAST-MODIFIED:20260323T155608Z
UID:10002404-1771873200-1771876800@www.orveshalom.org
SUMMARY:Hebrew for Adults - Continued
DESCRIPTION:Class for the remainder of the year will be held on Zoom.  \n$36 per member\, $54 per non-member \nLearn to read Hebrew with Education Director\, Chana Mayer. New students will be considered on a case by case basis based on reading level. \nCLICK HERE TO SIGN UP.  Zoom link will be sent upon registration.
URL:https://www.orveshalom.org/event/adulthebrewcontinued/2026-02-23
ATTACH;FMTTYPE=image/png:https://www.orveshalom.org/wp-content/uploads/2026/02/Adult-Hebrew-1-Continued-Postcard-2.9.26-small-NEW.png
END:VEVENT
BEGIN:VEVENT
DTSTART;TZID=America/New_York:20260224T093000
DTEND;TZID=America/New_York:20260224T093000
DTSTAMP:20260422T042017
CREATED:20250418T140040Z
LAST-MODIFIED:20250418T140040Z
UID:10000498-1771925400-1771925400@www.orveshalom.org
SUMMARY:Bureka Making
DESCRIPTION:Join the OVS Sisterhood for weekly Bureka Making
URL:https://www.orveshalom.org/event/bureka-making-48
END:VEVENT
BEGIN:VEVENT
DTSTART;TZID=America/New_York:20260227T180000
DTEND;TZID=America/New_York:20260227T180000
DTSTAMP:20260422T042017
CREATED:20250418T140041Z
LAST-MODIFIED:20250418T140041Z
UID:10000499-1772215200-1772215200@www.orveshalom.org
SUMMARY:Arvit
DESCRIPTION:Kabbalat Shabbat/Maariv
URL:https://www.orveshalom.org/event/arvit-48
END:VEVENT
BEGIN:VEVENT
DTSTART;TZID=America/New_York:20260227T181400
DTEND;TZID=America/New_York:20260227T181400
DTSTAMP:20260422T042017
CREATED:20250418T140041Z
LAST-MODIFIED:20250418T140041Z
UID:10000500-1772216040-1772216040@www.orveshalom.org
SUMMARY:Candle Lighting
DESCRIPTION:
URL:https://www.orveshalom.org/event/candle-lighting-60
END:VEVENT
BEGIN:VEVENT
DTSTART;TZID=America/New_York:20260228T000000
DTEND;TZID=America/New_York:20260228T000000
DTSTAMP:20260422T042017
CREATED:20250418T140045Z
LAST-MODIFIED:20250418T140045Z
UID:10000504-1772236800-1772236800@www.orveshalom.org
SUMMARY:Parshat Zachor
DESCRIPTION:
URL:https://www.orveshalom.org/event/parshat-zachor
END:VEVENT
BEGIN:VEVENT
DTSTART;TZID=America/New_York:20260228T000000
DTEND;TZID=America/New_York:20260228T000000
DTSTAMP:20260422T042017
CREATED:20250418T140046Z
LAST-MODIFIED:20250418T140046Z
UID:10000505-1772236800-1772236800@www.orveshalom.org
SUMMARY:Parshat Tetzaveh
DESCRIPTION:
URL:https://www.orveshalom.org/event/parshat-tetzaveh
END:VEVENT
END:VCALENDAR