BEGIN:VCALENDAR
VERSION:2.0
PRODID:-//Congregation Or VeShalom - ECPv6.15.17.1//NONSGML v1.0//EN
CALSCALE:GREGORIAN
METHOD:PUBLISH
X-WR-CALNAME:Congregation Or VeShalom
X-ORIGINAL-URL:https://www.orveshalom.org
X-WR-CALDESC:Events for Congregation Or VeShalom
REFRESH-INTERVAL;VALUE=DURATION:PT1H
X-Robots-Tag:noindex
X-PUBLISHED-TTL:PT1H
BEGIN:VTIMEZONE
TZID:America/New_York
BEGIN:DAYLIGHT
TZOFFSETFROM:-0500
TZOFFSETTO:-0400
TZNAME:EDT
DTSTART:20240310T070000
END:DAYLIGHT
BEGIN:STANDARD
TZOFFSETFROM:-0400
TZOFFSETTO:-0500
TZNAME:EST
DTSTART:20241103T060000
END:STANDARD
BEGIN:DAYLIGHT
TZOFFSETFROM:-0500
TZOFFSETTO:-0400
TZNAME:EDT
DTSTART:20250309T070000
END:DAYLIGHT
BEGIN:STANDARD
TZOFFSETFROM:-0400
TZOFFSETTO:-0500
TZNAME:EST
DTSTART:20251102T060000
END:STANDARD
BEGIN:DAYLIGHT
TZOFFSETFROM:-0500
TZOFFSETTO:-0400
TZNAME:EDT
DTSTART:20260308T070000
END:DAYLIGHT
BEGIN:STANDARD
TZOFFSETFROM:-0400
TZOFFSETTO:-0500
TZNAME:EST
DTSTART:20261101T060000
END:STANDARD
END:VTIMEZONE
BEGIN:VEVENT
DTSTART;TZID=America/New_York:20250817T090000
DTEND;TZID=America/New_York:20250817T120000
DTSTAMP:20260424T112730
CREATED:20250417T211618Z
LAST-MODIFIED:20250507T153601Z
UID:10000241-1755421200-1755432000@www.orveshalom.org
SUMMARY:Building Blocks Sunday School
DESCRIPTION:Building Blocks Sunday School at Congregation Or VeShalom is for children ages 2 – 12. Areas of focus include prayer\, Jewish holidays\, Jewish values\, modern Hebrew\, Hebrew reading\, Israel\, and Sephardic Jewish culture.
URL:https://www.orveshalom.org/event/building-blocks-sunday-school-2025-2026/2025-08-17
ATTACH;FMTTYPE=image/png:https://www.orveshalom.org/wp-content/uploads/2025/04/Building-Blocks-Postcard-2025-2026-5.2.25-small.png
END:VEVENT
BEGIN:VEVENT
DTSTART;TZID=America/New_York:20250817T170000
DTEND;TZID=America/New_York:20250817T190000
DTSTAMP:20260424T112730
CREATED:20250507T190204Z
LAST-MODIFIED:20250701T154851Z
UID:10002249-1755450000-1755457200@www.orveshalom.org
SUMMARY:Mitzvot Celebration
DESCRIPTION:Join us for our annual Mitzvot Celebration 2025 and Keftes Dinner on Sunday\, August 17 from 5:00 – 7:00 pm.\nDinner is $20 for adults\, $5 for children ages 3-12. Children under 3 are free.\nComplimentary Childcare with advanced registration required by August 11.
URL:https://www.orveshalom.org/event/mitzvot-auction
ATTACH;FMTTYPE=image/png:https://www.orveshalom.org/wp-content/uploads/2025/05/Mitzvot-Celebration-2025-Postcard-NEW-DATE-small-.png
END:VEVENT
END:VCALENDAR